BEGIN:VCALENDAR
VERSION:2.0
PRODID:-//Tårup - ECPv6.15.20//NONSGML v1.0//EN
CALSCALE:GREGORIAN
METHOD:PUBLISH
X-WR-CALNAME:Tårup
X-ORIGINAL-URL:https://taarup.dk
X-WR-CALDESC:Begivenheder for Tårup
REFRESH-INTERVAL;VALUE=DURATION:PT1H
X-Robots-Tag:noindex
X-PUBLISHED-TTL:PT1H
BEGIN:VTIMEZONE
TZID:Europe/Copenhagen
BEGIN:DAYLIGHT
TZOFFSETFROM:+0100
TZOFFSETTO:+0200
TZNAME:CEST
DTSTART:20230326T010000
END:DAYLIGHT
BEGIN:STANDARD
TZOFFSETFROM:+0200
TZOFFSETTO:+0100
TZNAME:CET
DTSTART:20231029T010000
END:STANDARD
BEGIN:DAYLIGHT
TZOFFSETFROM:+0100
TZOFFSETTO:+0200
TZNAME:CEST
DTSTART:20240331T010000
END:DAYLIGHT
BEGIN:STANDARD
TZOFFSETFROM:+0200
TZOFFSETTO:+0100
TZNAME:CET
DTSTART:20241027T010000
END:STANDARD
BEGIN:DAYLIGHT
TZOFFSETFROM:+0100
TZOFFSETTO:+0200
TZNAME:CEST
DTSTART:20250330T010000
END:DAYLIGHT
BEGIN:STANDARD
TZOFFSETFROM:+0200
TZOFFSETTO:+0100
TZNAME:CET
DTSTART:20251026T010000
END:STANDARD
BEGIN:DAYLIGHT
TZOFFSETFROM:+0100
TZOFFSETTO:+0200
TZNAME:CEST
DTSTART:20260329T010000
END:DAYLIGHT
BEGIN:STANDARD
TZOFFSETFROM:+0200
TZOFFSETTO:+0100
TZNAME:CET
DTSTART:20261025T010000
END:STANDARD
END:VTIMEZONE
BEGIN:VEVENT
DTSTART;TZID=Europe/Copenhagen:20250522T180000
DTEND;TZID=Europe/Copenhagen:20250522T210000
DTSTAMP:20260421T121408
CREATED:20250225T111516Z
LAST-MODIFIED:20250225T111516Z
UID:10000987-1747936800-1747947600@taarup.dk
SUMMARY:Grill Under Egen
DESCRIPTION:
URL:https://taarup.dk/begivenhed/grill-under-egen-2/
LOCATION:Under Egen\, Tårup Forsamlingshus
CATEGORIES:Grillaftner Under Egen
ATTACH;FMTTYPE=image/jpeg:https://taarup.dk/wp-content/uploads/2024/07/IMG_0504-scaled.jpg
GEO:55.234469;10.772367
X-APPLE-STRUCTURED-LOCATION;VALUE=URI;X-ADDRESS=Under Egen Tårup Forsamlingshus;X-APPLE-RADIUS=500;X-TITLE=Tårup Forsamlingshus:geo:10.772367,55.234469
END:VEVENT
BEGIN:VEVENT
DTSTART;TZID=Europe/Copenhagen:20240913T180000
DTEND;TZID=Europe/Copenhagen:20240913T180000
DTSTAMP:20260421T121408
CREATED:20240131T105107Z
LAST-MODIFIED:20240728T091953Z
UID:10000370-1726250400-1726250400@taarup.dk
SUMMARY:Grillaften Under Egen
DESCRIPTION:Vi mødes i grillhytten ”Under Egen” kl. 18.00\, hvor der er tændt op. \nMedbring egen mad og drikke og hyg dig med børn og voksne fra nabolaget. Tilmelding ikke nødvendig. \nBirgit og Karsten Mengel\n29252954
URL:https://taarup.dk/begivenhed/grillaften-under-egen/2024-09-13/
LOCATION:Under Egen\, Tårup Forsamlingshus
CATEGORIES:Grillaftner Under Egen
ATTACH;FMTTYPE=image/jpeg:https://taarup.dk/wp-content/uploads/2024/01/underegen_grill.jpg
GEO:55.234469;10.772367
X-APPLE-STRUCTURED-LOCATION;VALUE=URI;X-ADDRESS=Under Egen Tårup Forsamlingshus;X-APPLE-RADIUS=500;X-TITLE=Tårup Forsamlingshus:geo:10.772367,55.234469
END:VEVENT
BEGIN:VEVENT
DTSTART;TZID=Europe/Copenhagen:20240913T160000
DTEND;TZID=Europe/Copenhagen:20240913T180000
DTSTAMP:20260421T121408
CREATED:20240819T074522Z
LAST-MODIFIED:20240819T074522Z
UID:10000816-1726243200-1726250400@taarup.dk
SUMMARY:Ugleriget viser ugler frem
DESCRIPTION:Ugleriget viser ugler frem Under Egen. Det koster 50 kroner at deltage. Der kan max deltage 40 personer\, så tjek med Birgitte Cordes på kvikaco@hotmail.com om der stadig er pladser. Tilmelding senest 6. september. Efter Uglerigets besøg er alle velkomne til at deltage i Grill Under Egen.
URL:https://taarup.dk/begivenhed/ugleriget-viser-ugler-frem/
LOCATION:Under Egen\, Tårup Forsamlingshus
GEO:55.234469;10.772367
X-APPLE-STRUCTURED-LOCATION;VALUE=URI;X-ADDRESS=Under Egen Tårup Forsamlingshus;X-APPLE-RADIUS=500;X-TITLE=Tårup Forsamlingshus:geo:10.772367,55.234469
END:VEVENT
BEGIN:VEVENT
DTSTART;TZID=Europe/Copenhagen:20240903T180000
DTEND;TZID=Europe/Copenhagen:20240903T180000
DTSTAMP:20260421T121408
CREATED:20240131T105107Z
LAST-MODIFIED:20240728T091953Z
UID:10000369-1725386400-1725386400@taarup.dk
SUMMARY:Grillaften Under Egen
DESCRIPTION:Vi mødes i grillhytten ”Under Egen” kl. 18.00\, hvor der er tændt op. \nMedbring egen mad og drikke og hyg dig med børn og voksne fra nabolaget. Tilmelding ikke nødvendig. \nBirgit og Karsten Mengel\n29252954
URL:https://taarup.dk/begivenhed/grillaften-under-egen/2024-09-03/
LOCATION:Under Egen\, Tårup Forsamlingshus
CATEGORIES:Grillaftner Under Egen
ATTACH;FMTTYPE=image/jpeg:https://taarup.dk/wp-content/uploads/2024/01/underegen_grill.jpg
GEO:55.234469;10.772367
X-APPLE-STRUCTURED-LOCATION;VALUE=URI;X-ADDRESS=Under Egen Tårup Forsamlingshus;X-APPLE-RADIUS=500;X-TITLE=Tårup Forsamlingshus:geo:10.772367,55.234469
END:VEVENT
BEGIN:VEVENT
DTSTART;TZID=Europe/Copenhagen:20240819T180000
DTEND;TZID=Europe/Copenhagen:20240819T180000
DTSTAMP:20260421T121408
CREATED:20240131T105107Z
LAST-MODIFIED:20240728T091953Z
UID:10000368-1724090400-1724090400@taarup.dk
SUMMARY:Grillaften Under Egen
DESCRIPTION:Vi mødes i grillhytten ”Under Egen” kl. 18.00\, hvor der er tændt op. \nMedbring egen mad og drikke og hyg dig med børn og voksne fra nabolaget. Tilmelding ikke nødvendig. \nBirgit og Karsten Mengel\n29252954
URL:https://taarup.dk/begivenhed/grillaften-under-egen/2024-08-19/
LOCATION:Under Egen\, Tårup Forsamlingshus
CATEGORIES:Grillaftner Under Egen
ATTACH;FMTTYPE=image/jpeg:https://taarup.dk/wp-content/uploads/2024/01/underegen_grill.jpg
GEO:55.234469;10.772367
X-APPLE-STRUCTURED-LOCATION;VALUE=URI;X-ADDRESS=Under Egen Tårup Forsamlingshus;X-APPLE-RADIUS=500;X-TITLE=Tårup Forsamlingshus:geo:10.772367,55.234469
END:VEVENT
BEGIN:VEVENT
DTSTART;TZID=Europe/Copenhagen:20240802T180000
DTEND;TZID=Europe/Copenhagen:20240802T180000
DTSTAMP:20260421T121408
CREATED:20240131T105107Z
LAST-MODIFIED:20240728T091953Z
UID:10000792-1722621600-1722621600@taarup.dk
SUMMARY:Grillaften Under Egen
DESCRIPTION:Vi mødes i grillhytten ”Under Egen” kl. 18.00\, hvor der er tændt op. \nMedbring egen mad og drikke og hyg dig med børn og voksne fra nabolaget. Tilmelding ikke nødvendig. \nBirgit og Karsten Mengel\n29252954
URL:https://taarup.dk/begivenhed/grillaften-under-egen/2024-08-02/
LOCATION:Under Egen\, Tårup Forsamlingshus
CATEGORIES:Grillaftner Under Egen
ATTACH;FMTTYPE=image/jpeg:https://taarup.dk/wp-content/uploads/2024/01/underegen_grill.jpg
GEO:55.234469;10.772367
X-APPLE-STRUCTURED-LOCATION;VALUE=URI;X-ADDRESS=Under Egen Tårup Forsamlingshus;X-APPLE-RADIUS=500;X-TITLE=Tårup Forsamlingshus:geo:10.772367,55.234469
END:VEVENT
BEGIN:VEVENT
DTSTART;TZID=Europe/Copenhagen:20240723T180000
DTEND;TZID=Europe/Copenhagen:20240723T180000
DTSTAMP:20260421T121408
CREATED:20240131T105107Z
LAST-MODIFIED:20240728T091953Z
UID:10000366-1721757600-1721757600@taarup.dk
SUMMARY:Grillaften Under Egen
DESCRIPTION:Vi mødes i grillhytten ”Under Egen” kl. 18.00\, hvor der er tændt op. \nMedbring egen mad og drikke og hyg dig med børn og voksne fra nabolaget. Tilmelding ikke nødvendig. \nBirgit og Karsten Mengel\n29252954
URL:https://taarup.dk/begivenhed/grillaften-under-egen/2024-07-23/
LOCATION:Under Egen\, Tårup Forsamlingshus
CATEGORIES:Grillaftner Under Egen
ATTACH;FMTTYPE=image/jpeg:https://taarup.dk/wp-content/uploads/2024/01/underegen_grill.jpg
GEO:55.234469;10.772367
X-APPLE-STRUCTURED-LOCATION;VALUE=URI;X-ADDRESS=Under Egen Tårup Forsamlingshus;X-APPLE-RADIUS=500;X-TITLE=Tårup Forsamlingshus:geo:10.772367,55.234469
END:VEVENT
BEGIN:VEVENT
DTSTART;TZID=Europe/Copenhagen:20240708T180000
DTEND;TZID=Europe/Copenhagen:20240708T180000
DTSTAMP:20260421T121408
CREATED:20240131T105107Z
LAST-MODIFIED:20240728T091953Z
UID:10000365-1720461600-1720461600@taarup.dk
SUMMARY:Grillaften Under Egen
DESCRIPTION:Vi mødes i grillhytten ”Under Egen” kl. 18.00\, hvor der er tændt op. \nMedbring egen mad og drikke og hyg dig med børn og voksne fra nabolaget. Tilmelding ikke nødvendig. \nBirgit og Karsten Mengel\n29252954
URL:https://taarup.dk/begivenhed/grillaften-under-egen/2024-07-08/
LOCATION:Under Egen\, Tårup Forsamlingshus
CATEGORIES:Grillaftner Under Egen
ATTACH;FMTTYPE=image/jpeg:https://taarup.dk/wp-content/uploads/2024/01/underegen_grill.jpg
GEO:55.234469;10.772367
X-APPLE-STRUCTURED-LOCATION;VALUE=URI;X-ADDRESS=Under Egen Tårup Forsamlingshus;X-APPLE-RADIUS=500;X-TITLE=Tårup Forsamlingshus:geo:10.772367,55.234469
END:VEVENT
BEGIN:VEVENT
DTSTART;TZID=Europe/Copenhagen:20240708T170000
DTEND;TZID=Europe/Copenhagen:20240708T180000
DTSTAMP:20260421T121408
CREATED:20240622T081302Z
LAST-MODIFIED:20240622T081302Z
UID:10000777-1720458000-1720461600@taarup.dk
SUMMARY:Mød Tårup-Frørup Seniorklub inden Grill Under Egen
DESCRIPTION:
URL:https://taarup.dk/begivenhed/moed-taarup-froerup-seniorklub-inden-grill-under-egen/
LOCATION:Under Egen\, Tårup Forsamlingshus
CATEGORIES:Tårup-Frørup Seniorklub
GEO:55.234469;10.772367
X-APPLE-STRUCTURED-LOCATION;VALUE=URI;X-ADDRESS=Under Egen Tårup Forsamlingshus;X-APPLE-RADIUS=500;X-TITLE=Tårup Forsamlingshus:geo:10.772367,55.234469
END:VEVENT
BEGIN:VEVENT
DTSTART;TZID=Europe/Copenhagen:20240624T180000
DTEND;TZID=Europe/Copenhagen:20240624T180000
DTSTAMP:20260421T121408
CREATED:20240131T105107Z
LAST-MODIFIED:20240728T091953Z
UID:10000364-1719252000-1719252000@taarup.dk
SUMMARY:Grillaften Under Egen
DESCRIPTION:Vi mødes i grillhytten ”Under Egen” kl. 18.00\, hvor der er tændt op. \nMedbring egen mad og drikke og hyg dig med børn og voksne fra nabolaget. Tilmelding ikke nødvendig. \nBirgit og Karsten Mengel\n29252954
URL:https://taarup.dk/begivenhed/grillaften-under-egen/2024-06-24/
LOCATION:Under Egen\, Tårup Forsamlingshus
CATEGORIES:Grillaftner Under Egen
ATTACH;FMTTYPE=image/jpeg:https://taarup.dk/wp-content/uploads/2024/01/underegen_grill.jpg
GEO:55.234469;10.772367
X-APPLE-STRUCTURED-LOCATION;VALUE=URI;X-ADDRESS=Under Egen Tårup Forsamlingshus;X-APPLE-RADIUS=500;X-TITLE=Tårup Forsamlingshus:geo:10.772367,55.234469
END:VEVENT
BEGIN:VEVENT
DTSTART;TZID=Europe/Copenhagen:20240624T170000
DTEND;TZID=Europe/Copenhagen:20240624T180000
DTSTAMP:20260421T121408
CREATED:20240622T081926Z
LAST-MODIFIED:20240622T081926Z
UID:10000775-1719248400-1719252000@taarup.dk
SUMMARY:Mød Tårup-Frørup Seniorklub inden Grill Under Egen
DESCRIPTION:
URL:https://taarup.dk/begivenhed/moed-taarup-froerup-seniorklub-inden-grill-under-egen-2/
LOCATION:Under Egen\, Tårup Forsamlingshus
GEO:55.234469;10.772367
X-APPLE-STRUCTURED-LOCATION;VALUE=URI;X-ADDRESS=Under Egen Tårup Forsamlingshus;X-APPLE-RADIUS=500;X-TITLE=Tårup Forsamlingshus:geo:10.772367,55.234469
END:VEVENT
BEGIN:VEVENT
DTSTART;TZID=Europe/Copenhagen:20240620T183000
DTEND;TZID=Europe/Copenhagen:20240620T183000
DTSTAMP:20260421T121408
CREATED:20240524T071519Z
LAST-MODIFIED:20240524T071745Z
UID:10000749-1718908200-1718908200@taarup.dk
SUMMARY:Stiftende generalforsamling for foreningen Tårup Dark Sky Park
DESCRIPTION:Kære borgere i Tårup Sogn \nVi indkalder hermed til stiftende generalforsamling for foreningen Tårup Dark Sky Park torsdag den 20. juni kl. 18.30. Mødet foregår i grill hytten under Egen i Tårup. \nDagsorden er som følger \n1. Velkommen ved Jesper W. Henriksen og Mette Bro Jansen \n2. Valg af dirigent \n3. Godkendelse af vedtægter: Vedtægter for foreningen Tårup Dark Sky Park final \n4. valgt til bestyrelse – 5 medlemmer \n5. evt. \n6. Tak for i dag \nUdkast til vedtægter bliver offentliggjort 14 dage før afholdelse af stiftende generalforsamling på taarup.dk \nHilsen fra \nJesper W. Henriksen og Mette Bro Jansen
URL:https://taarup.dk/begivenhed/stiftende-generalforsamling-for-foreningen-taarup-dark-sky-park/
LOCATION:Under Egen\, Tårup Forsamlingshus
ATTACH;FMTTYPE=image/jpeg:https://taarup.dk/wp-content/uploads/2024/05/Dark_sky_park_stjernehimmel.jpg
GEO:55.234469;10.772367
X-APPLE-STRUCTURED-LOCATION;VALUE=URI;X-ADDRESS=Under Egen Tårup Forsamlingshus;X-APPLE-RADIUS=500;X-TITLE=Tårup Forsamlingshus:geo:10.772367,55.234469
END:VEVENT
BEGIN:VEVENT
DTSTART;TZID=Europe/Copenhagen:20240611T180000
DTEND;TZID=Europe/Copenhagen:20240611T180000
DTSTAMP:20260421T121408
CREATED:20240131T105107Z
LAST-MODIFIED:20240728T091953Z
UID:10000363-1718128800-1718128800@taarup.dk
SUMMARY:Grillaften Under Egen
DESCRIPTION:Vi mødes i grillhytten ”Under Egen” kl. 18.00\, hvor der er tændt op. \nMedbring egen mad og drikke og hyg dig med børn og voksne fra nabolaget. Tilmelding ikke nødvendig. \nBirgit og Karsten Mengel\n29252954
URL:https://taarup.dk/begivenhed/grillaften-under-egen/2024-06-11/
LOCATION:Under Egen\, Tårup Forsamlingshus
CATEGORIES:Grillaftner Under Egen
ATTACH;FMTTYPE=image/jpeg:https://taarup.dk/wp-content/uploads/2024/01/underegen_grill.jpg
GEO:55.234469;10.772367
X-APPLE-STRUCTURED-LOCATION;VALUE=URI;X-ADDRESS=Under Egen Tårup Forsamlingshus;X-APPLE-RADIUS=500;X-TITLE=Tårup Forsamlingshus:geo:10.772367,55.234469
END:VEVENT
BEGIN:VEVENT
DTSTART;TZID=Europe/Copenhagen:20240529T180000
DTEND;TZID=Europe/Copenhagen:20240529T180000
DTSTAMP:20260421T121408
CREATED:20240131T105107Z
LAST-MODIFIED:20240728T091953Z
UID:10000362-1717005600-1717005600@taarup.dk
SUMMARY:Grillaften Under Egen
DESCRIPTION:Vi mødes i grillhytten ”Under Egen” kl. 18.00\, hvor der er tændt op. \nMedbring egen mad og drikke og hyg dig med børn og voksne fra nabolaget. Tilmelding ikke nødvendig. \nBirgit og Karsten Mengel\n29252954
URL:https://taarup.dk/begivenhed/grillaften-under-egen/2024-05-29/
LOCATION:Under Egen\, Tårup Forsamlingshus
CATEGORIES:Grillaftner Under Egen
ATTACH;FMTTYPE=image/jpeg:https://taarup.dk/wp-content/uploads/2024/01/underegen_grill.jpg
GEO:55.234469;10.772367
X-APPLE-STRUCTURED-LOCATION;VALUE=URI;X-ADDRESS=Under Egen Tårup Forsamlingshus;X-APPLE-RADIUS=500;X-TITLE=Tårup Forsamlingshus:geo:10.772367,55.234469
END:VEVENT
BEGIN:VEVENT
DTSTART;TZID=Europe/Copenhagen:20240516T180000
DTEND;TZID=Europe/Copenhagen:20240516T180000
DTSTAMP:20260421T121408
CREATED:20240131T105107Z
LAST-MODIFIED:20240728T091953Z
UID:10000361-1715882400-1715882400@taarup.dk
SUMMARY:Grillaften Under Egen
DESCRIPTION:Vi mødes i grillhytten ”Under Egen” kl. 18.00\, hvor der er tændt op. \nMedbring egen mad og drikke og hyg dig med børn og voksne fra nabolaget. Tilmelding ikke nødvendig. \nBirgit og Karsten Mengel\n29252954
URL:https://taarup.dk/begivenhed/grillaften-under-egen/2024-05-16/
LOCATION:Under Egen\, Tårup Forsamlingshus
CATEGORIES:Grillaftner Under Egen
ATTACH;FMTTYPE=image/jpeg:https://taarup.dk/wp-content/uploads/2024/01/underegen_grill.jpg
GEO:55.234469;10.772367
X-APPLE-STRUCTURED-LOCATION;VALUE=URI;X-ADDRESS=Under Egen Tårup Forsamlingshus;X-APPLE-RADIUS=500;X-TITLE=Tårup Forsamlingshus:geo:10.772367,55.234469
END:VEVENT
END:VCALENDAR