BEGIN:VCALENDAR
VERSION:2.0
PRODID:-//Tårup - ECPv6.15.20//NONSGML v1.0//EN
CALSCALE:GREGORIAN
METHOD:PUBLISH
X-WR-CALNAME:Tårup
X-ORIGINAL-URL:https://taarup.dk
X-WR-CALDESC:Begivenheder for Tårup
REFRESH-INTERVAL;VALUE=DURATION:PT1H
X-Robots-Tag:noindex
X-PUBLISHED-TTL:PT1H
BEGIN:VTIMEZONE
TZID:Europe/Copenhagen
BEGIN:DAYLIGHT
TZOFFSETFROM:+0100
TZOFFSETTO:+0200
TZNAME:CEST
DTSTART:20230326T010000
END:DAYLIGHT
BEGIN:STANDARD
TZOFFSETFROM:+0200
TZOFFSETTO:+0100
TZNAME:CET
DTSTART:20231029T010000
END:STANDARD
BEGIN:DAYLIGHT
TZOFFSETFROM:+0100
TZOFFSETTO:+0200
TZNAME:CEST
DTSTART:20240331T010000
END:DAYLIGHT
BEGIN:STANDARD
TZOFFSETFROM:+0200
TZOFFSETTO:+0100
TZNAME:CET
DTSTART:20241027T010000
END:STANDARD
BEGIN:DAYLIGHT
TZOFFSETFROM:+0100
TZOFFSETTO:+0200
TZNAME:CEST
DTSTART:20250330T010000
END:DAYLIGHT
BEGIN:STANDARD
TZOFFSETFROM:+0200
TZOFFSETTO:+0100
TZNAME:CET
DTSTART:20251026T010000
END:STANDARD
END:VTIMEZONE
BEGIN:VEVENT
DTSTART;TZID=Europe/Copenhagen:20240310T090000
DTEND;TZID=Europe/Copenhagen:20240310T103000
DTSTAMP:20260422T094435
CREATED:20240212T084121Z
LAST-MODIFIED:20240212T084215Z
UID:10000375-1710061200-1710066600@taarup.dk
SUMMARY:SkovFitness
DESCRIPTION:SkovFitness er en frisk gåtur med indlagte fitnessøvelser undervejs med elastik og egen kropsvægt og øvelser\, der får pulsen op. \nSkovens kuperede terræn styrker kroppens led\, muskler og balance. Øvelserne vi laver undervejs giver både styrke og udholdenhed og ikke mindst: et smil på læben. For sjovt skal det være. \nMedbring dit gode humør og den grønne elastik (eller lån/køb af mig). Alle er velkomne\, og tilmelding er ikke nødvendigt. \nVi mødes kl. 9 ved Tårup Forsamlingshus. \nArrangør: Anne Kirstine
URL:https://taarup.dk/begivenhed/skovfitness/2024-03-10/
LOCATION:Tårup Forsamlingshus\, Tårup Byvej 26\, Tårup\, Danmark
CATEGORIES:SkovFitness - sjov udendørstræning for alle
ATTACH;FMTTYPE=image/jpeg:https://taarup.dk/wp-content/uploads/2024/02/image0.jpeg
END:VEVENT
BEGIN:VEVENT
DTSTART;TZID=Europe/Copenhagen:20240306T090000
DTEND;TZID=Europe/Copenhagen:20240306T090000
DTSTAMP:20260422T094435
CREATED:20240116T090716Z
LAST-MODIFIED:20240122T124625Z
UID:10000008-1709715600-1709715600@taarup.dk
SUMMARY:Onsdagsgåtur
DESCRIPTION:Gåture fra Tårup forsamlingshus onsdage kl. 9. \nVi går mellem 5 og 10 km. \nNår vi går omkring Tårup\, er der altid mulighed for at gå en kortere tur for dem der vil det.\nVi tager kaffe/the med til den pause vi holder på turen. \nSidste onsdag i måneden\, spiser vi sammen i Kirkens hus. \nHilsen Lotte kontaktperson
URL:https://taarup.dk/begivenhed/onsdagsgaatur/2024-03-06/
LOCATION:Tårup Forsamlingshus\, Tårup Byvej 26\, Tårup\, Danmark
CATEGORIES:Onsdagsgåturene
ATTACH;FMTTYPE=image/jpeg:https://taarup.dk/wp-content/uploads/2024/01/onsdagsgaature.jpg
END:VEVENT
BEGIN:VEVENT
DTSTART;TZID=Europe/Copenhagen:20240303T100000
DTEND;TZID=Europe/Copenhagen:20240303T120000
DTSTAMP:20260422T094435
CREATED:20240202T084824Z
LAST-MODIFIED:20240216T092458Z
UID:10000371-1709460000-1709467200@taarup.dk
SUMMARY:Brunch i Tårup Forsamlingshus
DESCRIPTION:Indbydelse til brunch i Tårup Forsamlingshus søndag den 3. marts 2024 kl. 10.00 -12.00\nHvorfor indbydelse?\nTårup Landsbyråd afholder årsmøde med drøftelser af det/de kommende års ønsker for byens udvikling herunder mulighed for at blive nyt medlem af landsbyrådet. \nEtablering af ny forening\, som skal drive Huset Under Egen (Frysehuset)\, som bliver overdraget til den nyetablerede forening på Tårup Forsamlingshus´ generalforsamlingen medio marts 2024. Tårup Landsbyråd og bestyrelsen for Tårup Forsamlingshus har udarbejdet vedtægter for foreningen Huset Under Egen. Vedtægterne kan rekvireres hos Hanne Dahl Dahl-Kastell@outlook.dk og Mette Bro Jansen mette.bro.jansen@hotmail.dk \nHvorfor deltage?\nHygge og drøftelse af drømme og visioner for byens fremtidige udviklingspotentiale\, og hvordan vi fastholder og tiltrækker nye folk til byen. \nBlive medlem af den nye bestyrelse for Huset Under Egen og nyt medlem af Tårup Landsbyråd. \nTilmelding er ikke nødvendigt. \nVær OBS på generalforsamlingen i Tårup Forsamlingshus\nOverdragelsen af frysehuset til ny forening skal godkendes af en flertal af medlemmer af Tårup Forsamlingshus. Kom derfor til generalforsamlingen onsdag 20. marts 2024. \nVel mødt \nBestyrelsen for Tårup Forsamlingshus og Tårup Landsbyråd
URL:https://taarup.dk/begivenhed/brunch-i-taarup-forsamlingshus/
LOCATION:Tårup Forsamlingshus\, Tårup Byvej 26\, Tårup\, Danmark
CATEGORIES:Tårup Forsamlingshus
ATTACH;FMTTYPE=image/jpeg:https://taarup.dk/wp-content/uploads/2024/02/landsbyraadet.jpg
END:VEVENT
BEGIN:VEVENT
DTSTART;TZID=Europe/Copenhagen:20240302T090000
DTEND;TZID=Europe/Copenhagen:20240302T103000
DTSTAMP:20260422T094435
CREATED:20240212T084346Z
LAST-MODIFIED:20240228T161732Z
UID:10000374-1709370000-1709375400@taarup.dk
SUMMARY:SkovFitness
DESCRIPTION:OBS Denne weekend afholdes SkovFitness om lørdagen – ikke søndag som sædvanligt. \nSkovFitness er en frisk gåtur med indlagte fitnessøvelser undervejs med elastik og egen kropsvægt og øvelser\, der får pulsen op. \nSkovens kuperede terræn styrker kroppens led\, muskler og balance. Øvelserne vi laver undervejs giver både styrke og udholdenhed og ikke mindst: et smil på læben. For sjovt skal det være. \nMedbring dit gode humør og den grønne elastik (eller lån/køb af mig). Alle er velkomne\, og tilmelding er ikke nødvendigt. \nVi mødes kl. 9 ved Tårup Forsamlingshus. \nArrangør: Anne Kirstine\, 29933135
URL:https://taarup.dk/begivenhed/skovfitness-2/
LOCATION:Tårup Forsamlingshus\, Tårup Byvej 26\, Tårup\, Danmark
CATEGORIES:SkovFitness - sjov udendørstræning for alle
ATTACH;FMTTYPE=image/jpeg:https://taarup.dk/wp-content/uploads/2024/02/image0.jpeg
END:VEVENT
BEGIN:VEVENT
DTSTART;TZID=Europe/Copenhagen:20240228T090000
DTEND;TZID=Europe/Copenhagen:20240228T090000
DTSTAMP:20260422T094435
CREATED:20240116T090716Z
LAST-MODIFIED:20240122T124625Z
UID:10000007-1709110800-1709110800@taarup.dk
SUMMARY:Onsdagsgåtur
DESCRIPTION:Gåture fra Tårup forsamlingshus onsdage kl. 9. \nVi går mellem 5 og 10 km. \nNår vi går omkring Tårup\, er der altid mulighed for at gå en kortere tur for dem der vil det.\nVi tager kaffe/the med til den pause vi holder på turen. \nSidste onsdag i måneden\, spiser vi sammen i Kirkens hus. \nHilsen Lotte kontaktperson
URL:https://taarup.dk/begivenhed/onsdagsgaatur/2024-02-28/
LOCATION:Tårup Forsamlingshus\, Tårup Byvej 26\, Tårup\, Danmark
CATEGORIES:Onsdagsgåturene
ATTACH;FMTTYPE=image/jpeg:https://taarup.dk/wp-content/uploads/2024/01/onsdagsgaature.jpg
END:VEVENT
BEGIN:VEVENT
DTSTART;TZID=Europe/Copenhagen:20240225T090000
DTEND;TZID=Europe/Copenhagen:20240225T103000
DTSTAMP:20260422T094435
CREATED:20240212T084121Z
LAST-MODIFIED:20240212T084215Z
UID:10000373-1708851600-1708857000@taarup.dk
SUMMARY:SkovFitness
DESCRIPTION:SkovFitness er en frisk gåtur med indlagte fitnessøvelser undervejs med elastik og egen kropsvægt og øvelser\, der får pulsen op. \nSkovens kuperede terræn styrker kroppens led\, muskler og balance. Øvelserne vi laver undervejs giver både styrke og udholdenhed og ikke mindst: et smil på læben. For sjovt skal det være. \nMedbring dit gode humør og den grønne elastik (eller lån/køb af mig). Alle er velkomne\, og tilmelding er ikke nødvendigt. \nVi mødes kl. 9 ved Tårup Forsamlingshus. \nArrangør: Anne Kirstine
URL:https://taarup.dk/begivenhed/skovfitness/2024-02-25/
LOCATION:Tårup Forsamlingshus\, Tårup Byvej 26\, Tårup\, Danmark
CATEGORIES:SkovFitness - sjov udendørstræning for alle
ATTACH;FMTTYPE=image/jpeg:https://taarup.dk/wp-content/uploads/2024/02/image0.jpeg
END:VEVENT
BEGIN:VEVENT
DTSTART;TZID=Europe/Copenhagen:20240222T183000
DTEND;TZID=Europe/Copenhagen:20240222T183000
DTSTAMP:20260422T094435
CREATED:20240122T131319Z
LAST-MODIFIED:20240202T082939Z
UID:10000358-1708626600-1708626600@taarup.dk
SUMMARY:Stegt flæsk - generalforsamling og foredrag med gadepræst Peder Thyssen
DESCRIPTION:Stegt flæsk og persillesovs \nGeneralforsamling – dagsorden ifølge vedtægterne \nForedrag: Præst på gaden – foredrag med gadepræst Peder Thyssen \nPræst på gaden. Kirken udenfor kirken.\nForedraget handler om mit opsøgende gadearbejde blandt Odenses hjemløse og marginaliserede. Jeg vil fortælle om nogle skæbner\, men frem for alt hvilken betydning det har\, at kirken forlader sine beskyttende mure og opsøger de mennesker\, som andre ser ned på\, i bedste fald har medlidenhed med\, og giver dem værdighed og håb. \nEntré 120\,- medlemmer 100\,- \nBindende tilmelding på tlf. 31799600 eller e-mail: erik@soemod.dk \nTårup Foredragsforening
URL:https://taarup.dk/begivenhed/stegt-flaesk-generalforsamling-og-foredrag-med-gadepraest-peder-thyssen/
LOCATION:Tårup Forsamlingshus\, Tårup Byvej 26\, Tårup\, Danmark
CATEGORIES:Tårup foredragsforening
ATTACH;FMTTYPE=image/jpeg:https://taarup.dk/wp-content/uploads/2024/01/pt-1.jpg
END:VEVENT
BEGIN:VEVENT
DTSTART;TZID=Europe/Copenhagen:20240221T090000
DTEND;TZID=Europe/Copenhagen:20240221T090000
DTSTAMP:20260422T094435
CREATED:20240131T101748Z
LAST-MODIFIED:20240131T101749Z
UID:10000006-1708506000-1708506000@taarup.dk
SUMMARY:Onsdagsgåtur til Bredemiste og Nyløkke ved Ørbæklunde
DESCRIPTION:Vi mødes ved Grill Hytten kl. 09.00 og kører sammen til Bredemiste og Nyløkke ved\nØrbæklunde.\nVi går på begge sider af Kongshøj Å\, hvor vi får kig til Ørbæklunde og Lundemølle.\nDet meste af turen er igennem skov.\nTuren er på ca. 7 km.\nTag kaffe/te med til vores pause undervejs. \nMed venlig hilsen\nBirgit Mengel
URL:https://taarup.dk/begivenhed/onsdagsgaatur-3/
LOCATION:Tårup Forsamlingshus\, Tårup Byvej 26\, Tårup\, Danmark
CATEGORIES:Onsdagsgåturene
ATTACH;FMTTYPE=image/jpeg:https://taarup.dk/wp-content/uploads/2024/01/onsdagsgaature.jpg
END:VEVENT
BEGIN:VEVENT
DTSTART;TZID=Europe/Copenhagen:20240218T090000
DTEND;TZID=Europe/Copenhagen:20240218T103000
DTSTAMP:20260422T094435
CREATED:20240212T084121Z
LAST-MODIFIED:20240212T084215Z
UID:10000372-1708246800-1708252200@taarup.dk
SUMMARY:SkovFitness
DESCRIPTION:SkovFitness er en frisk gåtur med indlagte fitnessøvelser undervejs med elastik og egen kropsvægt og øvelser\, der får pulsen op. \nSkovens kuperede terræn styrker kroppens led\, muskler og balance. Øvelserne vi laver undervejs giver både styrke og udholdenhed og ikke mindst: et smil på læben. For sjovt skal det være. \nMedbring dit gode humør og den grønne elastik (eller lån/køb af mig). Alle er velkomne\, og tilmelding er ikke nødvendigt. \nVi mødes kl. 9 ved Tårup Forsamlingshus. \nArrangør: Anne Kirstine
URL:https://taarup.dk/begivenhed/skovfitness/2024-02-18/
LOCATION:Tårup Forsamlingshus\, Tårup Byvej 26\, Tårup\, Danmark
CATEGORIES:SkovFitness - sjov udendørstræning for alle
ATTACH;FMTTYPE=image/jpeg:https://taarup.dk/wp-content/uploads/2024/02/image0.jpeg
END:VEVENT
BEGIN:VEVENT
DTSTART;TZID=Europe/Copenhagen:20240214T090000
DTEND;TZID=Europe/Copenhagen:20240214T090000
DTSTAMP:20260422T094435
CREATED:20240116T090716Z
LAST-MODIFIED:20240122T124625Z
UID:10000005-1707901200-1707901200@taarup.dk
SUMMARY:Onsdagsgåtur
DESCRIPTION:Gåture fra Tårup forsamlingshus onsdage kl. 9. \nVi går mellem 5 og 10 km. \nNår vi går omkring Tårup\, er der altid mulighed for at gå en kortere tur for dem der vil det.\nVi tager kaffe/the med til den pause vi holder på turen. \nSidste onsdag i måneden\, spiser vi sammen i Kirkens hus. \nHilsen Lotte kontaktperson
URL:https://taarup.dk/begivenhed/onsdagsgaatur/2024-02-14/
LOCATION:Tårup Forsamlingshus\, Tårup Byvej 26\, Tårup\, Danmark
CATEGORIES:Onsdagsgåturene
ATTACH;FMTTYPE=image/jpeg:https://taarup.dk/wp-content/uploads/2024/01/onsdagsgaature.jpg
END:VEVENT
BEGIN:VEVENT
DTSTART;TZID=Europe/Copenhagen:20240207T090000
DTEND;TZID=Europe/Copenhagen:20240207T090000
DTSTAMP:20260422T094435
CREATED:20240116T090716Z
LAST-MODIFIED:20240122T124625Z
UID:10000004-1707296400-1707296400@taarup.dk
SUMMARY:Onsdagsgåtur
DESCRIPTION:Gåture fra Tårup forsamlingshus onsdage kl. 9. \nVi går mellem 5 og 10 km. \nNår vi går omkring Tårup\, er der altid mulighed for at gå en kortere tur for dem der vil det.\nVi tager kaffe/the med til den pause vi holder på turen. \nSidste onsdag i måneden\, spiser vi sammen i Kirkens hus. \nHilsen Lotte kontaktperson
URL:https://taarup.dk/begivenhed/onsdagsgaatur/2024-02-07/
LOCATION:Tårup Forsamlingshus\, Tårup Byvej 26\, Tårup\, Danmark
CATEGORIES:Onsdagsgåturene
ATTACH;FMTTYPE=image/jpeg:https://taarup.dk/wp-content/uploads/2024/01/onsdagsgaature.jpg
END:VEVENT
BEGIN:VEVENT
DTSTART;TZID=Europe/Copenhagen:20240131T090000
DTEND;TZID=Europe/Copenhagen:20240131T090000
DTSTAMP:20260422T094435
CREATED:20240116T090716Z
LAST-MODIFIED:20240122T124625Z
UID:10000003-1706691600-1706691600@taarup.dk
SUMMARY:Onsdagsgåtur
DESCRIPTION:Gåture fra Tårup forsamlingshus onsdage kl. 9. \nVi går mellem 5 og 10 km. \nNår vi går omkring Tårup\, er der altid mulighed for at gå en kortere tur for dem der vil det.\nVi tager kaffe/the med til den pause vi holder på turen. \nSidste onsdag i måneden\, spiser vi sammen i Kirkens hus. \nHilsen Lotte kontaktperson
URL:https://taarup.dk/begivenhed/onsdagsgaatur/2024-01-31/
LOCATION:Tårup Forsamlingshus\, Tårup Byvej 26\, Tårup\, Danmark
CATEGORIES:Onsdagsgåturene
ATTACH;FMTTYPE=image/jpeg:https://taarup.dk/wp-content/uploads/2024/01/onsdagsgaature.jpg
END:VEVENT
BEGIN:VEVENT
DTSTART;TZID=Europe/Copenhagen:20240124T090000
DTEND;TZID=Europe/Copenhagen:20240124T090000
DTSTAMP:20260422T094435
CREATED:20240116T090716Z
LAST-MODIFIED:20240122T124625Z
UID:10000266-1706086800-1706086800@taarup.dk
SUMMARY:Onsdagsgåtur
DESCRIPTION:Gåture fra Tårup forsamlingshus onsdage kl. 9. \nVi går mellem 5 og 10 km. \nNår vi går omkring Tårup\, er der altid mulighed for at gå en kortere tur for dem der vil det.\nVi tager kaffe/the med til den pause vi holder på turen. \nSidste onsdag i måneden\, spiser vi sammen i Kirkens hus. \nHilsen Lotte kontaktperson
URL:https://taarup.dk/begivenhed/onsdagsgaatur/2024-01-24/
LOCATION:Tårup Forsamlingshus\, Tårup Byvej 26\, Tårup\, Danmark
CATEGORIES:Onsdagsgåturene
ATTACH;FMTTYPE=image/jpeg:https://taarup.dk/wp-content/uploads/2024/01/onsdagsgaature.jpg
END:VEVENT
BEGIN:VEVENT
DTSTART;TZID=Europe/Copenhagen:20240117T090000
DTEND;TZID=Europe/Copenhagen:20240117T090000
DTSTAMP:20260422T094435
CREATED:20240116T090716Z
LAST-MODIFIED:20240122T124625Z
UID:10000001-1705482000-1705482000@taarup.dk
SUMMARY:Onsdagsgåtur
DESCRIPTION:Gåture fra Tårup forsamlingshus onsdage kl. 9. \nVi går mellem 5 og 10 km. \nNår vi går omkring Tårup\, er der altid mulighed for at gå en kortere tur for dem der vil det.\nVi tager kaffe/the med til den pause vi holder på turen. \nSidste onsdag i måneden\, spiser vi sammen i Kirkens hus. \nHilsen Lotte kontaktperson
URL:https://taarup.dk/begivenhed/onsdagsgaatur/2024-01-17/
LOCATION:Tårup Forsamlingshus\, Tårup Byvej 26\, Tårup\, Danmark
CATEGORIES:Onsdagsgåturene
ATTACH;FMTTYPE=image/jpeg:https://taarup.dk/wp-content/uploads/2024/01/onsdagsgaature.jpg
END:VEVENT
END:VCALENDAR