BEGIN:VCALENDAR
VERSION:2.0
PRODID:-//Tårup - ECPv6.15.20//NONSGML v1.0//EN
CALSCALE:GREGORIAN
METHOD:PUBLISH
X-ORIGINAL-URL:https://taarup.dk
X-WR-CALDESC:Begivenheder for Tårup
REFRESH-INTERVAL;VALUE=DURATION:PT1H
X-Robots-Tag:noindex
X-PUBLISHED-TTL:PT1H
BEGIN:VTIMEZONE
TZID:Europe/Copenhagen
BEGIN:DAYLIGHT
TZOFFSETFROM:+0100
TZOFFSETTO:+0200
TZNAME:CEST
DTSTART:20230326T010000
END:DAYLIGHT
BEGIN:STANDARD
TZOFFSETFROM:+0200
TZOFFSETTO:+0100
TZNAME:CET
DTSTART:20231029T010000
END:STANDARD
BEGIN:DAYLIGHT
TZOFFSETFROM:+0100
TZOFFSETTO:+0200
TZNAME:CEST
DTSTART:20240331T010000
END:DAYLIGHT
BEGIN:STANDARD
TZOFFSETFROM:+0200
TZOFFSETTO:+0100
TZNAME:CET
DTSTART:20241027T010000
END:STANDARD
BEGIN:DAYLIGHT
TZOFFSETFROM:+0100
TZOFFSETTO:+0200
TZNAME:CEST
DTSTART:20250330T010000
END:DAYLIGHT
BEGIN:STANDARD
TZOFFSETFROM:+0200
TZOFFSETTO:+0100
TZNAME:CET
DTSTART:20251026T010000
END:STANDARD
END:VTIMEZONE
BEGIN:VEVENT
DTSTART;TZID=Europe/Copenhagen:20241024T183000
DTEND;TZID=Europe/Copenhagen:20241024T220000
DTSTAMP:20260421T203158
CREATED:20241007T105938Z
LAST-MODIFIED:20241007T105938Z
UID:10000836-1729794600-1729807200@taarup.dk
SUMMARY:Foredrag med Natalia Hansen i Tårup Foredragsforening
DESCRIPTION:
URL:https://taarup.dk/begivenhed/foredrag-med-natalia-hansen-i-taarup-foredragsforening/
LOCATION:Tårup Forsamlingshus\, Tårup Byvej 26\, Tårup\, Danmark
END:VEVENT
BEGIN:VEVENT
DTSTART;TZID=Europe/Copenhagen:20241023T090000
DTEND;TZID=Europe/Copenhagen:20241023T090000
DTSTAMP:20260421T203158
CREATED:20240122T124808Z
LAST-MODIFIED:20240122T124905Z
UID:10000300-1729674000-1729674000@taarup.dk
SUMMARY:Onsdagsgåtur
DESCRIPTION:Gåture fra Tårup forsamlingshus onsdage kl. 9. \nVi går mellem 5 og 10 km. \nNår vi går omkring Tårup\, er der altid mulighed for at gå en kortere tur for dem der vil det.\nVi tager kaffe/the med til den pause vi holder på turen. \nSidste onsdag i måneden\, spiser vi sammen i Kirkens hus. \nHilsen Lotte kontaktperson
URL:https://taarup.dk/begivenhed/onsdagsgaatur-2/2024-10-23/
LOCATION:Tårup Forsamlingshus\, Tårup Byvej 26\, Tårup\, Danmark
CATEGORIES:Onsdagsgåturene
ATTACH;FMTTYPE=image/jpeg:https://taarup.dk/wp-content/uploads/2024/01/onsdagsgaature.jpg
END:VEVENT
BEGIN:VEVENT
DTSTART;TZID=Europe/Copenhagen:20241016T090000
DTEND;TZID=Europe/Copenhagen:20241016T090000
DTSTAMP:20260421T203158
CREATED:20240122T124808Z
LAST-MODIFIED:20240122T124905Z
UID:10000299-1729069200-1729069200@taarup.dk
SUMMARY:Onsdagsgåtur
DESCRIPTION:Gåture fra Tårup forsamlingshus onsdage kl. 9. \nVi går mellem 5 og 10 km. \nNår vi går omkring Tårup\, er der altid mulighed for at gå en kortere tur for dem der vil det.\nVi tager kaffe/the med til den pause vi holder på turen. \nSidste onsdag i måneden\, spiser vi sammen i Kirkens hus. \nHilsen Lotte kontaktperson
URL:https://taarup.dk/begivenhed/onsdagsgaatur-2/2024-10-16/
LOCATION:Tårup Forsamlingshus\, Tårup Byvej 26\, Tårup\, Danmark
CATEGORIES:Onsdagsgåturene
ATTACH;FMTTYPE=image/jpeg:https://taarup.dk/wp-content/uploads/2024/01/onsdagsgaature.jpg
END:VEVENT
BEGIN:VEVENT
DTSTART;TZID=Europe/Copenhagen:20241009T173000
DTEND;TZID=Europe/Copenhagen:20241009T203000
DTSTAMP:20260421T203158
CREATED:20240916T095810Z
LAST-MODIFIED:20241005T125912Z
UID:10000832-1728495000-1728505800@taarup.dk
SUMMARY:Fællesspisning i Tårup Forsamlingshus
DESCRIPTION:Fællesspisning\nOnsdag d. 9. oktober kl. 17.30 Tårup Forsamlingshus \nMenu:\nKylling i karry a la ristaffel – Bradepandebrød\nKaffe og kage \nPriser:\nVoksne: 85 kr.\nBørn 6-12 år: 45 kr.\nBørn under 5: Gratis \nTilmelding: \nKonto 5960 5004643\nMobilePay 88690 \nTydelig angivelse af navn og antal deltagere (barn/voksen)\nØnsker du menuen i vegetarudgave skal dette også oplyses v. tilmelding \nTilmelding senest fredag d. 4. oktober\nPå gensyn d. 9. oktober \nTårup Forsamlingshus og familierne Bilde og Eriksen \nHar du æbler\, du vil donere til kagerne\, så modtager vi gerne. Send os en sms snarest – 51464617
URL:https://taarup.dk/begivenhed/faellesspisning-i-taarup-forsamlingshus/
LOCATION:Tårup Forsamlingshus\, Tårup Byvej 26\, Tårup\, Danmark
END:VEVENT
BEGIN:VEVENT
DTSTART;TZID=Europe/Copenhagen:20241009T090000
DTEND;TZID=Europe/Copenhagen:20241009T090000
DTSTAMP:20260421T203158
CREATED:20240122T124808Z
LAST-MODIFIED:20240122T124905Z
UID:10000298-1728464400-1728464400@taarup.dk
SUMMARY:Onsdagsgåtur
DESCRIPTION:Gåture fra Tårup forsamlingshus onsdage kl. 9. \nVi går mellem 5 og 10 km. \nNår vi går omkring Tårup\, er der altid mulighed for at gå en kortere tur for dem der vil det.\nVi tager kaffe/the med til den pause vi holder på turen. \nSidste onsdag i måneden\, spiser vi sammen i Kirkens hus. \nHilsen Lotte kontaktperson
URL:https://taarup.dk/begivenhed/onsdagsgaatur-2/2024-10-09/
LOCATION:Tårup Forsamlingshus\, Tårup Byvej 26\, Tårup\, Danmark
CATEGORIES:Onsdagsgåturene
ATTACH;FMTTYPE=image/jpeg:https://taarup.dk/wp-content/uploads/2024/01/onsdagsgaature.jpg
END:VEVENT
BEGIN:VEVENT
DTSTART;TZID=Europe/Copenhagen:20241008T180000
DTEND;TZID=Europe/Copenhagen:20241008T213000
DTSTAMP:20260421T203158
CREATED:20240827T080224Z
LAST-MODIFIED:20240827T080224Z
UID:10000820-1728410400-1728423000@taarup.dk
SUMMARY:Høstfest i Tårup-Frørup Seniorklub
DESCRIPTION:
URL:https://taarup.dk/begivenhed/hoestfest-i-taarup-froerup-seniorklub/
LOCATION:Tårup Forsamlingshus\, Tårup Byvej 26\, Tårup\, Danmark
ATTACH;FMTTYPE=image/jpeg:https://taarup.dk/wp-content/uploads/2024/08/csm_sidste-laes-nordby_3e7ec6f606_57822aca31.jpg
END:VEVENT
BEGIN:VEVENT
DTSTART;TZID=Europe/Copenhagen:20241006T103000
DTEND;TZID=Europe/Copenhagen:20241006T123000
DTSTAMP:20260421T203158
CREATED:20240916T100441Z
LAST-MODIFIED:20240916T100441Z
UID:10000833-1728210600-1728217800@taarup.dk
SUMMARY:Brunch i Tårup Forsamlingshus - ved Tårup Kirke og Tårup Forsamlingshus
DESCRIPTION:
URL:https://taarup.dk/begivenhed/brunch-i-taarup-forsamlingshus-ved-taarup-kirke-og-taarup-forsamlingshus/
LOCATION:Tårup Forsamlingshus\, Tårup Byvej 26\, Tårup\, Danmark
END:VEVENT
BEGIN:VEVENT
DTSTART;TZID=Europe/Copenhagen:20241002T090000
DTEND;TZID=Europe/Copenhagen:20241002T090000
DTSTAMP:20260421T203158
CREATED:20240122T124808Z
LAST-MODIFIED:20240122T124905Z
UID:10000297-1727859600-1727859600@taarup.dk
SUMMARY:Onsdagsgåtur
DESCRIPTION:Gåture fra Tårup forsamlingshus onsdage kl. 9. \nVi går mellem 5 og 10 km. \nNår vi går omkring Tårup\, er der altid mulighed for at gå en kortere tur for dem der vil det.\nVi tager kaffe/the med til den pause vi holder på turen. \nSidste onsdag i måneden\, spiser vi sammen i Kirkens hus. \nHilsen Lotte kontaktperson
URL:https://taarup.dk/begivenhed/onsdagsgaatur-2/2024-10-02/
LOCATION:Tårup Forsamlingshus\, Tårup Byvej 26\, Tårup\, Danmark
CATEGORIES:Onsdagsgåturene
ATTACH;FMTTYPE=image/jpeg:https://taarup.dk/wp-content/uploads/2024/01/onsdagsgaature.jpg
END:VEVENT
BEGIN:VEVENT
DTSTART;TZID=Europe/Copenhagen:20240925T090000
DTEND;TZID=Europe/Copenhagen:20240925T090000
DTSTAMP:20260421T203158
CREATED:20240122T124808Z
LAST-MODIFIED:20240122T124905Z
UID:10000296-1727254800-1727254800@taarup.dk
SUMMARY:Onsdagsgåtur
DESCRIPTION:Gåture fra Tårup forsamlingshus onsdage kl. 9. \nVi går mellem 5 og 10 km. \nNår vi går omkring Tårup\, er der altid mulighed for at gå en kortere tur for dem der vil det.\nVi tager kaffe/the med til den pause vi holder på turen. \nSidste onsdag i måneden\, spiser vi sammen i Kirkens hus. \nHilsen Lotte kontaktperson
URL:https://taarup.dk/begivenhed/onsdagsgaatur-2/2024-09-25/
LOCATION:Tårup Forsamlingshus\, Tårup Byvej 26\, Tårup\, Danmark
CATEGORIES:Onsdagsgåturene
ATTACH;FMTTYPE=image/jpeg:https://taarup.dk/wp-content/uploads/2024/01/onsdagsgaature.jpg
END:VEVENT
BEGIN:VEVENT
DTSTART;TZID=Europe/Copenhagen:20240918T090000
DTEND;TZID=Europe/Copenhagen:20240918T090000
DTSTAMP:20260421T203158
CREATED:20240122T124808Z
LAST-MODIFIED:20240122T124905Z
UID:10000295-1726650000-1726650000@taarup.dk
SUMMARY:Onsdagsgåtur
DESCRIPTION:Gåture fra Tårup forsamlingshus onsdage kl. 9. \nVi går mellem 5 og 10 km. \nNår vi går omkring Tårup\, er der altid mulighed for at gå en kortere tur for dem der vil det.\nVi tager kaffe/the med til den pause vi holder på turen. \nSidste onsdag i måneden\, spiser vi sammen i Kirkens hus. \nHilsen Lotte kontaktperson
URL:https://taarup.dk/begivenhed/onsdagsgaatur-2/2024-09-18/
LOCATION:Tårup Forsamlingshus\, Tårup Byvej 26\, Tårup\, Danmark
CATEGORIES:Onsdagsgåturene
ATTACH;FMTTYPE=image/jpeg:https://taarup.dk/wp-content/uploads/2024/01/onsdagsgaature.jpg
END:VEVENT
BEGIN:VEVENT
DTSTART;TZID=Europe/Copenhagen:20240911T090000
DTEND;TZID=Europe/Copenhagen:20240911T090000
DTSTAMP:20260421T203158
CREATED:20240122T124808Z
LAST-MODIFIED:20240122T124905Z
UID:10000294-1726045200-1726045200@taarup.dk
SUMMARY:Onsdagsgåtur
DESCRIPTION:Gåture fra Tårup forsamlingshus onsdage kl. 9. \nVi går mellem 5 og 10 km. \nNår vi går omkring Tårup\, er der altid mulighed for at gå en kortere tur for dem der vil det.\nVi tager kaffe/the med til den pause vi holder på turen. \nSidste onsdag i måneden\, spiser vi sammen i Kirkens hus. \nHilsen Lotte kontaktperson
URL:https://taarup.dk/begivenhed/onsdagsgaatur-2/2024-09-11/
LOCATION:Tårup Forsamlingshus\, Tårup Byvej 26\, Tårup\, Danmark
CATEGORIES:Onsdagsgåturene
ATTACH;FMTTYPE=image/jpeg:https://taarup.dk/wp-content/uploads/2024/01/onsdagsgaature.jpg
END:VEVENT
BEGIN:VEVENT
DTSTART;TZID=Europe/Copenhagen:20240904T090000
DTEND;TZID=Europe/Copenhagen:20240904T090000
DTSTAMP:20260421T203158
CREATED:20240122T124808Z
LAST-MODIFIED:20240122T124905Z
UID:10000293-1725440400-1725440400@taarup.dk
SUMMARY:Onsdagsgåtur
DESCRIPTION:Gåture fra Tårup forsamlingshus onsdage kl. 9. \nVi går mellem 5 og 10 km. \nNår vi går omkring Tårup\, er der altid mulighed for at gå en kortere tur for dem der vil det.\nVi tager kaffe/the med til den pause vi holder på turen. \nSidste onsdag i måneden\, spiser vi sammen i Kirkens hus. \nHilsen Lotte kontaktperson
URL:https://taarup.dk/begivenhed/onsdagsgaatur-2/2024-09-04/
LOCATION:Tårup Forsamlingshus\, Tårup Byvej 26\, Tårup\, Danmark
CATEGORIES:Onsdagsgåturene
ATTACH;FMTTYPE=image/jpeg:https://taarup.dk/wp-content/uploads/2024/01/onsdagsgaature.jpg
END:VEVENT
BEGIN:VEVENT
DTSTART;TZID=Europe/Copenhagen:20240828T090000
DTEND;TZID=Europe/Copenhagen:20240828T090000
DTSTAMP:20260421T203158
CREATED:20240122T124808Z
LAST-MODIFIED:20240122T124905Z
UID:10000292-1724835600-1724835600@taarup.dk
SUMMARY:Onsdagsgåtur
DESCRIPTION:Gåture fra Tårup forsamlingshus onsdage kl. 9. \nVi går mellem 5 og 10 km. \nNår vi går omkring Tårup\, er der altid mulighed for at gå en kortere tur for dem der vil det.\nVi tager kaffe/the med til den pause vi holder på turen. \nSidste onsdag i måneden\, spiser vi sammen i Kirkens hus. \nHilsen Lotte kontaktperson
URL:https://taarup.dk/begivenhed/onsdagsgaatur-2/2024-08-28/
LOCATION:Tårup Forsamlingshus\, Tårup Byvej 26\, Tårup\, Danmark
CATEGORIES:Onsdagsgåturene
ATTACH;FMTTYPE=image/jpeg:https://taarup.dk/wp-content/uploads/2024/01/onsdagsgaature.jpg
END:VEVENT
BEGIN:VEVENT
DTSTART;TZID=Europe/Copenhagen:20240821T090000
DTEND;TZID=Europe/Copenhagen:20240821T090000
DTSTAMP:20260421T203159
CREATED:20240122T124808Z
LAST-MODIFIED:20240122T124905Z
UID:10000291-1724230800-1724230800@taarup.dk
SUMMARY:Onsdagsgåtur
DESCRIPTION:Gåture fra Tårup forsamlingshus onsdage kl. 9. \nVi går mellem 5 og 10 km. \nNår vi går omkring Tårup\, er der altid mulighed for at gå en kortere tur for dem der vil det.\nVi tager kaffe/the med til den pause vi holder på turen. \nSidste onsdag i måneden\, spiser vi sammen i Kirkens hus. \nHilsen Lotte kontaktperson
URL:https://taarup.dk/begivenhed/onsdagsgaatur-2/2024-08-21/
LOCATION:Tårup Forsamlingshus\, Tårup Byvej 26\, Tårup\, Danmark
CATEGORIES:Onsdagsgåturene
ATTACH;FMTTYPE=image/jpeg:https://taarup.dk/wp-content/uploads/2024/01/onsdagsgaature.jpg
END:VEVENT
BEGIN:VEVENT
DTSTART;TZID=Europe/Copenhagen:20240817T130000
DTEND;TZID=Europe/Copenhagen:20240817T130000
DTSTAMP:20260421T203159
CREATED:20240524T070601Z
LAST-MODIFIED:20240524T070601Z
UID:10000748-1723899600-1723899600@taarup.dk
SUMMARY:Havefest Under Egen - 2024
DESCRIPTION:En gratis havefest for alle.\nTårup Forsamlingshus\, Tårup Landsbyråd\, Menighedsrådet\, Bækvej’s stuekoncerter og en styregruppe afholder igen Tårup Havefest 2024 – vi følger op på succesen fra sidste år. Festen skal foregå “Under Egen” og der vil være mad og drikke til rimelige priser. For dem\, der ikke er kendte i byen\, er “Under Egen” det grønne område ved siden af forsamlingshuset. Festen er gratis at deltage i.Tårup har fået rigtig mange nye beboere til byen\, og særligt her på denne dag\, er der mulighed for at lære hinanden at kende og men også bygge videre på de gode relationer i byen. Vi håber at havefesten\, ligesom sidste år\, vil skabe begejstring og give en følelse af sammenhold. Hensigten er at give folk i byen\, men også folk fra nær en fjern\, en intim oplevelse i form af en lille havefest. Vi vil vise omverdenen at et lille landsbysamfund kan noget og give sommerlige oplevelser\n\nDet bliver muligt at køb mad og drikke ligesom der vil blive aktiviteter for børn.\nKom og oplev:Working Mojo.Krog og Uglerne &Karl Kristian
URL:https://taarup.dk/begivenhed/havefest-under-egen-2024/
LOCATION:Tårup Forsamlingshus\, Tårup Byvej 26\, Tårup\, Danmark
ATTACH;FMTTYPE=image/jpeg:https://taarup.dk/wp-content/uploads/2024/05/Sommerfest_Under_Egen.jpg
END:VEVENT
BEGIN:VEVENT
DTSTART;TZID=Europe/Copenhagen:20240814T090000
DTEND;TZID=Europe/Copenhagen:20240814T090000
DTSTAMP:20260421T203159
CREATED:20240122T124808Z
LAST-MODIFIED:20240122T124905Z
UID:10000290-1723626000-1723626000@taarup.dk
SUMMARY:Onsdagsgåtur
DESCRIPTION:Gåture fra Tårup forsamlingshus onsdage kl. 9. \nVi går mellem 5 og 10 km. \nNår vi går omkring Tårup\, er der altid mulighed for at gå en kortere tur for dem der vil det.\nVi tager kaffe/the med til den pause vi holder på turen. \nSidste onsdag i måneden\, spiser vi sammen i Kirkens hus. \nHilsen Lotte kontaktperson
URL:https://taarup.dk/begivenhed/onsdagsgaatur-2/2024-08-14/
LOCATION:Tårup Forsamlingshus\, Tårup Byvej 26\, Tårup\, Danmark
CATEGORIES:Onsdagsgåturene
ATTACH;FMTTYPE=image/jpeg:https://taarup.dk/wp-content/uploads/2024/01/onsdagsgaature.jpg
END:VEVENT
BEGIN:VEVENT
DTSTART;TZID=Europe/Copenhagen:20240807T090000
DTEND;TZID=Europe/Copenhagen:20240807T090000
DTSTAMP:20260421T203159
CREATED:20240122T124808Z
LAST-MODIFIED:20240122T124905Z
UID:10000289-1723021200-1723021200@taarup.dk
SUMMARY:Onsdagsgåtur
DESCRIPTION:Gåture fra Tårup forsamlingshus onsdage kl. 9. \nVi går mellem 5 og 10 km. \nNår vi går omkring Tårup\, er der altid mulighed for at gå en kortere tur for dem der vil det.\nVi tager kaffe/the med til den pause vi holder på turen. \nSidste onsdag i måneden\, spiser vi sammen i Kirkens hus. \nHilsen Lotte kontaktperson
URL:https://taarup.dk/begivenhed/onsdagsgaatur-2/2024-08-07/
LOCATION:Tårup Forsamlingshus\, Tårup Byvej 26\, Tårup\, Danmark
CATEGORIES:Onsdagsgåturene
ATTACH;FMTTYPE=image/jpeg:https://taarup.dk/wp-content/uploads/2024/01/onsdagsgaature.jpg
END:VEVENT
BEGIN:VEVENT
DTSTART;TZID=Europe/Copenhagen:20240612T090000
DTEND;TZID=Europe/Copenhagen:20240612T090000
DTSTAMP:20260421T203159
CREATED:20240116T090716Z
LAST-MODIFIED:20240122T124625Z
UID:10000022-1718182800-1718182800@taarup.dk
SUMMARY:Onsdagsgåtur
DESCRIPTION:Gåture fra Tårup forsamlingshus onsdage kl. 9. \nVi går mellem 5 og 10 km. \nNår vi går omkring Tårup\, er der altid mulighed for at gå en kortere tur for dem der vil det.\nVi tager kaffe/the med til den pause vi holder på turen. \nSidste onsdag i måneden\, spiser vi sammen i Kirkens hus. \nHilsen Lotte kontaktperson
URL:https://taarup.dk/begivenhed/onsdagsgaatur/2024-06-12/
LOCATION:Tårup Forsamlingshus\, Tårup Byvej 26\, Tårup\, Danmark
CATEGORIES:Onsdagsgåturene
ATTACH;FMTTYPE=image/jpeg:https://taarup.dk/wp-content/uploads/2024/01/onsdagsgaature.jpg
END:VEVENT
BEGIN:VEVENT
DTSTART;TZID=Europe/Copenhagen:20240609T090000
DTEND;TZID=Europe/Copenhagen:20240609T103000
DTSTAMP:20260421T203159
CREATED:20240212T084121Z
LAST-MODIFIED:20240212T084215Z
UID:10000388-1717923600-1717929000@taarup.dk
SUMMARY:SkovFitness
DESCRIPTION:SkovFitness er en frisk gåtur med indlagte fitnessøvelser undervejs med elastik og egen kropsvægt og øvelser\, der får pulsen op. \nSkovens kuperede terræn styrker kroppens led\, muskler og balance. Øvelserne vi laver undervejs giver både styrke og udholdenhed og ikke mindst: et smil på læben. For sjovt skal det være. \nMedbring dit gode humør og den grønne elastik (eller lån/køb af mig). Alle er velkomne\, og tilmelding er ikke nødvendigt. \nVi mødes kl. 9 ved Tårup Forsamlingshus. \nArrangør: Anne Kirstine
URL:https://taarup.dk/begivenhed/skovfitness/2024-06-09/
LOCATION:Tårup Forsamlingshus\, Tårup Byvej 26\, Tårup\, Danmark
CATEGORIES:SkovFitness - sjov udendørstræning for alle
ATTACH;FMTTYPE=image/jpeg:https://taarup.dk/wp-content/uploads/2024/02/image0.jpeg
END:VEVENT
BEGIN:VEVENT
DTSTART;TZID=Europe/Copenhagen:20240605T090000
DTEND;TZID=Europe/Copenhagen:20240605T090000
DTSTAMP:20260421T203159
CREATED:20240116T090716Z
LAST-MODIFIED:20240122T124625Z
UID:10000021-1717578000-1717578000@taarup.dk
SUMMARY:Onsdagsgåtur
DESCRIPTION:Gåture fra Tårup forsamlingshus onsdage kl. 9. \nVi går mellem 5 og 10 km. \nNår vi går omkring Tårup\, er der altid mulighed for at gå en kortere tur for dem der vil det.\nVi tager kaffe/the med til den pause vi holder på turen. \nSidste onsdag i måneden\, spiser vi sammen i Kirkens hus. \nHilsen Lotte kontaktperson
URL:https://taarup.dk/begivenhed/onsdagsgaatur/2024-06-05/
LOCATION:Tårup Forsamlingshus\, Tårup Byvej 26\, Tårup\, Danmark
CATEGORIES:Onsdagsgåturene
ATTACH;FMTTYPE=image/jpeg:https://taarup.dk/wp-content/uploads/2024/01/onsdagsgaature.jpg
END:VEVENT
BEGIN:VEVENT
DTSTART;TZID=Europe/Copenhagen:20240602T090000
DTEND;TZID=Europe/Copenhagen:20240602T103000
DTSTAMP:20260421T203159
CREATED:20240212T084121Z
LAST-MODIFIED:20240212T084215Z
UID:10000387-1717318800-1717324200@taarup.dk
SUMMARY:SkovFitness
DESCRIPTION:SkovFitness er en frisk gåtur med indlagte fitnessøvelser undervejs med elastik og egen kropsvægt og øvelser\, der får pulsen op. \nSkovens kuperede terræn styrker kroppens led\, muskler og balance. Øvelserne vi laver undervejs giver både styrke og udholdenhed og ikke mindst: et smil på læben. For sjovt skal det være. \nMedbring dit gode humør og den grønne elastik (eller lån/køb af mig). Alle er velkomne\, og tilmelding er ikke nødvendigt. \nVi mødes kl. 9 ved Tårup Forsamlingshus. \nArrangør: Anne Kirstine
URL:https://taarup.dk/begivenhed/skovfitness/2024-06-02/
LOCATION:Tårup Forsamlingshus\, Tårup Byvej 26\, Tårup\, Danmark
CATEGORIES:SkovFitness - sjov udendørstræning for alle
ATTACH;FMTTYPE=image/jpeg:https://taarup.dk/wp-content/uploads/2024/02/image0.jpeg
END:VEVENT
BEGIN:VEVENT
DTSTART;TZID=Europe/Copenhagen:20240601T150000
DTEND;TZID=Europe/Copenhagen:20240601T170000
DTSTAMP:20260421T203159
CREATED:20240524T065051Z
LAST-MODIFIED:20240524T070348Z
UID:10000747-1717254000-1717261200@taarup.dk
SUMMARY:Sommerkoncert med klokkefrøerne
DESCRIPTION:Børnekoret Klokkefrøerne præsenterer:\n\nI samarbejde med Tårup Forsamlingshus\n\nLørdag 1 juni 2024 kl. 15:00-17:00 i Tårup Forsamlingshus\nBørnekoret Klokkefrøerne har sammensat en musikalsk forestilling der byder sommeren velkommen. Kom\, lyt\, syng og leg med os!\nDet serveres pølser og is.\nBillet inkl. servering 40 kr. pr. person.\nTilmelding via bank Reg. Nr. 5960 Konto nr. 5004643 (husk navn)eller MobilePay: 88690 senest 30. maj 2023.\nVelkommen!
URL:https://taarup.dk/begivenhed/sommerkoncert-med-klokkefroeerne/
LOCATION:Tårup Forsamlingshus\, Tårup Byvej 26\, Tårup\, Danmark
ATTACH;FMTTYPE=image/jpeg:https://taarup.dk/wp-content/uploads/2024/05/Sommerkoncert_klokkefroeerne.jpg
END:VEVENT
BEGIN:VEVENT
DTSTART;TZID=Europe/Copenhagen:20240529T090000
DTEND;TZID=Europe/Copenhagen:20240529T090000
DTSTAMP:20260421T203159
CREATED:20240116T090716Z
LAST-MODIFIED:20240122T124625Z
UID:10000020-1716973200-1716973200@taarup.dk
SUMMARY:Onsdagsgåtur
DESCRIPTION:Gåture fra Tårup forsamlingshus onsdage kl. 9. \nVi går mellem 5 og 10 km. \nNår vi går omkring Tårup\, er der altid mulighed for at gå en kortere tur for dem der vil det.\nVi tager kaffe/the med til den pause vi holder på turen. \nSidste onsdag i måneden\, spiser vi sammen i Kirkens hus. \nHilsen Lotte kontaktperson
URL:https://taarup.dk/begivenhed/onsdagsgaatur/2024-05-29/
LOCATION:Tårup Forsamlingshus\, Tårup Byvej 26\, Tårup\, Danmark
CATEGORIES:Onsdagsgåturene
ATTACH;FMTTYPE=image/jpeg:https://taarup.dk/wp-content/uploads/2024/01/onsdagsgaature.jpg
END:VEVENT
BEGIN:VEVENT
DTSTART;TZID=Europe/Copenhagen:20240526T090000
DTEND;TZID=Europe/Copenhagen:20240526T103000
DTSTAMP:20260421T203159
CREATED:20240212T084121Z
LAST-MODIFIED:20240212T084215Z
UID:10000386-1716714000-1716719400@taarup.dk
SUMMARY:SkovFitness
DESCRIPTION:SkovFitness er en frisk gåtur med indlagte fitnessøvelser undervejs med elastik og egen kropsvægt og øvelser\, der får pulsen op. \nSkovens kuperede terræn styrker kroppens led\, muskler og balance. Øvelserne vi laver undervejs giver både styrke og udholdenhed og ikke mindst: et smil på læben. For sjovt skal det være. \nMedbring dit gode humør og den grønne elastik (eller lån/køb af mig). Alle er velkomne\, og tilmelding er ikke nødvendigt. \nVi mødes kl. 9 ved Tårup Forsamlingshus. \nArrangør: Anne Kirstine
URL:https://taarup.dk/begivenhed/skovfitness/2024-05-26/
LOCATION:Tårup Forsamlingshus\, Tårup Byvej 26\, Tårup\, Danmark
CATEGORIES:SkovFitness - sjov udendørstræning for alle
ATTACH;FMTTYPE=image/jpeg:https://taarup.dk/wp-content/uploads/2024/02/image0.jpeg
END:VEVENT
BEGIN:VEVENT
DTSTART;TZID=Europe/Copenhagen:20240522T090000
DTEND;TZID=Europe/Copenhagen:20240522T090000
DTSTAMP:20260421T203159
CREATED:20240116T090716Z
LAST-MODIFIED:20240122T124625Z
UID:10000019-1716368400-1716368400@taarup.dk
SUMMARY:Onsdagsgåtur
DESCRIPTION:Gåture fra Tårup forsamlingshus onsdage kl. 9. \nVi går mellem 5 og 10 km. \nNår vi går omkring Tårup\, er der altid mulighed for at gå en kortere tur for dem der vil det.\nVi tager kaffe/the med til den pause vi holder på turen. \nSidste onsdag i måneden\, spiser vi sammen i Kirkens hus. \nHilsen Lotte kontaktperson
URL:https://taarup.dk/begivenhed/onsdagsgaatur/2024-05-22/
LOCATION:Tårup Forsamlingshus\, Tårup Byvej 26\, Tårup\, Danmark
CATEGORIES:Onsdagsgåturene
ATTACH;FMTTYPE=image/jpeg:https://taarup.dk/wp-content/uploads/2024/01/onsdagsgaature.jpg
END:VEVENT
BEGIN:VEVENT
DTSTART;TZID=Europe/Copenhagen:20240519T090000
DTEND;TZID=Europe/Copenhagen:20240519T103000
DTSTAMP:20260421T203159
CREATED:20240212T084121Z
LAST-MODIFIED:20240212T084215Z
UID:10000385-1716109200-1716114600@taarup.dk
SUMMARY:SkovFitness
DESCRIPTION:SkovFitness er en frisk gåtur med indlagte fitnessøvelser undervejs med elastik og egen kropsvægt og øvelser\, der får pulsen op. \nSkovens kuperede terræn styrker kroppens led\, muskler og balance. Øvelserne vi laver undervejs giver både styrke og udholdenhed og ikke mindst: et smil på læben. For sjovt skal det være. \nMedbring dit gode humør og den grønne elastik (eller lån/køb af mig). Alle er velkomne\, og tilmelding er ikke nødvendigt. \nVi mødes kl. 9 ved Tårup Forsamlingshus. \nArrangør: Anne Kirstine
URL:https://taarup.dk/begivenhed/skovfitness/2024-05-19/
LOCATION:Tårup Forsamlingshus\, Tårup Byvej 26\, Tårup\, Danmark
CATEGORIES:SkovFitness - sjov udendørstræning for alle
ATTACH;FMTTYPE=image/jpeg:https://taarup.dk/wp-content/uploads/2024/02/image0.jpeg
END:VEVENT
BEGIN:VEVENT
DTSTART;TZID=Europe/Copenhagen:20240515T090000
DTEND;TZID=Europe/Copenhagen:20240515T090000
DTSTAMP:20260421T203159
CREATED:20240116T090716Z
LAST-MODIFIED:20240122T124625Z
UID:10000018-1715763600-1715763600@taarup.dk
SUMMARY:Onsdagsgåtur
DESCRIPTION:Gåture fra Tårup forsamlingshus onsdage kl. 9. \nVi går mellem 5 og 10 km. \nNår vi går omkring Tårup\, er der altid mulighed for at gå en kortere tur for dem der vil det.\nVi tager kaffe/the med til den pause vi holder på turen. \nSidste onsdag i måneden\, spiser vi sammen i Kirkens hus. \nHilsen Lotte kontaktperson
URL:https://taarup.dk/begivenhed/onsdagsgaatur/2024-05-15/
LOCATION:Tårup Forsamlingshus\, Tårup Byvej 26\, Tårup\, Danmark
CATEGORIES:Onsdagsgåturene
ATTACH;FMTTYPE=image/jpeg:https://taarup.dk/wp-content/uploads/2024/01/onsdagsgaature.jpg
END:VEVENT
BEGIN:VEVENT
DTSTART;TZID=Europe/Copenhagen:20240512T090000
DTEND;TZID=Europe/Copenhagen:20240512T103000
DTSTAMP:20260421T203159
CREATED:20240212T084121Z
LAST-MODIFIED:20240212T084215Z
UID:10000384-1715504400-1715509800@taarup.dk
SUMMARY:SkovFitness
DESCRIPTION:SkovFitness er en frisk gåtur med indlagte fitnessøvelser undervejs med elastik og egen kropsvægt og øvelser\, der får pulsen op. \nSkovens kuperede terræn styrker kroppens led\, muskler og balance. Øvelserne vi laver undervejs giver både styrke og udholdenhed og ikke mindst: et smil på læben. For sjovt skal det være. \nMedbring dit gode humør og den grønne elastik (eller lån/køb af mig). Alle er velkomne\, og tilmelding er ikke nødvendigt. \nVi mødes kl. 9 ved Tårup Forsamlingshus. \nArrangør: Anne Kirstine
URL:https://taarup.dk/begivenhed/skovfitness/2024-05-12/
LOCATION:Tårup Forsamlingshus\, Tårup Byvej 26\, Tårup\, Danmark
CATEGORIES:SkovFitness - sjov udendørstræning for alle
ATTACH;FMTTYPE=image/jpeg:https://taarup.dk/wp-content/uploads/2024/02/image0.jpeg
END:VEVENT
BEGIN:VEVENT
DTSTART;TZID=Europe/Copenhagen:20240508T090000
DTEND;TZID=Europe/Copenhagen:20240508T090000
DTSTAMP:20260421T203159
CREATED:20240116T090716Z
LAST-MODIFIED:20240122T124625Z
UID:10000017-1715158800-1715158800@taarup.dk
SUMMARY:Onsdagsgåtur
DESCRIPTION:Gåture fra Tårup forsamlingshus onsdage kl. 9. \nVi går mellem 5 og 10 km. \nNår vi går omkring Tårup\, er der altid mulighed for at gå en kortere tur for dem der vil det.\nVi tager kaffe/the med til den pause vi holder på turen. \nSidste onsdag i måneden\, spiser vi sammen i Kirkens hus. \nHilsen Lotte kontaktperson
URL:https://taarup.dk/begivenhed/onsdagsgaatur/2024-05-08/
LOCATION:Tårup Forsamlingshus\, Tårup Byvej 26\, Tårup\, Danmark
CATEGORIES:Onsdagsgåturene
ATTACH;FMTTYPE=image/jpeg:https://taarup.dk/wp-content/uploads/2024/01/onsdagsgaature.jpg
END:VEVENT
BEGIN:VEVENT
DTSTART;TZID=Europe/Copenhagen:20240505T090000
DTEND;TZID=Europe/Copenhagen:20240505T103000
DTSTAMP:20260421T203159
CREATED:20240212T084121Z
LAST-MODIFIED:20240212T084215Z
UID:10000383-1714899600-1714905000@taarup.dk
SUMMARY:SkovFitness
DESCRIPTION:SkovFitness er en frisk gåtur med indlagte fitnessøvelser undervejs med elastik og egen kropsvægt og øvelser\, der får pulsen op. \nSkovens kuperede terræn styrker kroppens led\, muskler og balance. Øvelserne vi laver undervejs giver både styrke og udholdenhed og ikke mindst: et smil på læben. For sjovt skal det være. \nMedbring dit gode humør og den grønne elastik (eller lån/køb af mig). Alle er velkomne\, og tilmelding er ikke nødvendigt. \nVi mødes kl. 9 ved Tårup Forsamlingshus. \nArrangør: Anne Kirstine
URL:https://taarup.dk/begivenhed/skovfitness/2024-05-05/
LOCATION:Tårup Forsamlingshus\, Tårup Byvej 26\, Tårup\, Danmark
CATEGORIES:SkovFitness - sjov udendørstræning for alle
ATTACH;FMTTYPE=image/jpeg:https://taarup.dk/wp-content/uploads/2024/02/image0.jpeg
END:VEVENT
END:VCALENDAR