BEGIN:VCALENDAR
VERSION:2.0
PRODID:-//Tårup - ECPv6.15.20//NONSGML v1.0//EN
CALSCALE:GREGORIAN
METHOD:PUBLISH
X-ORIGINAL-URL:https://taarup.dk
X-WR-CALDESC:Begivenheder for Tårup
REFRESH-INTERVAL;VALUE=DURATION:PT1H
X-Robots-Tag:noindex
X-PUBLISHED-TTL:PT1H
BEGIN:VTIMEZONE
TZID:Europe/Copenhagen
BEGIN:DAYLIGHT
TZOFFSETFROM:+0100
TZOFFSETTO:+0200
TZNAME:CEST
DTSTART:20250330T010000
END:DAYLIGHT
BEGIN:STANDARD
TZOFFSETFROM:+0200
TZOFFSETTO:+0100
TZNAME:CET
DTSTART:20251026T010000
END:STANDARD
BEGIN:DAYLIGHT
TZOFFSETFROM:+0100
TZOFFSETTO:+0200
TZNAME:CEST
DTSTART:20260329T010000
END:DAYLIGHT
BEGIN:STANDARD
TZOFFSETFROM:+0200
TZOFFSETTO:+0100
TZNAME:CET
DTSTART:20261025T010000
END:STANDARD
BEGIN:DAYLIGHT
TZOFFSETFROM:+0100
TZOFFSETTO:+0200
TZNAME:CEST
DTSTART:20270328T010000
END:DAYLIGHT
BEGIN:STANDARD
TZOFFSETFROM:+0200
TZOFFSETTO:+0100
TZNAME:CET
DTSTART:20271031T010000
END:STANDARD
END:VTIMEZONE
BEGIN:VEVENT
DTSTART;TZID=Europe/Copenhagen:20260201T100000
DTEND;TZID=Europe/Copenhagen:20260201T100000
DTSTAMP:20260420T093453
CREATED:20260125T164854Z
LAST-MODIFIED:20260125T164854Z
UID:10001286-1769940000-1769940000@taarup.dk
SUMMARY:Gudstjeneste i Frørup Kirke
DESCRIPTION:Gudstjeneste i Frørup kirke
URL:https://taarup.dk/begivenhed/gudstjeneste-i-froerup-kirke-38/
LOCATION:Frørup Kirke\, Præstevænget 5A\, 5871 Frørup
CATEGORIES:Gudstjeneste i Frørup Kirke,Kirkerne i Frørup og Tårup
ATTACH;FMTTYPE=image/jpeg:https://taarup.dk/wp-content/uploads/2025/11/Froerup-kirke.jpg
END:VEVENT
BEGIN:VEVENT
DTSTART;TZID=Europe/Copenhagen:20260204T090000
DTEND;TZID=Europe/Copenhagen:20260204T090000
DTSTAMP:20260420T093453
CREATED:20260206T083445Z
LAST-MODIFIED:20260206T083445Z
UID:10001324-1770195600-1770195600@taarup.dk
SUMMARY:Onsdagsgåtur
DESCRIPTION:Gåture fra Tårup forsamlingshus onsdage kl. 9. \nVi går mellem 5 og 10 km. \nNår vi går omkring Tårup\, er der altid mulighed for at gå en kortere tur for dem der vil det.\nVi tager kaffe/the med til den pause vi holder på turen. \nSidste onsdag i måneden\, spiser vi sammen i Kirkens hus. \nHilsen Lotte kontaktperson
URL:https://taarup.dk/begivenhed/onsdagsgaatur-5/2026-02-04/
LOCATION:Tårup Forsamlingshus\, Tårup Byvej 26\, Tårup\, Danmark
CATEGORIES:Onsdagsgåturene
ATTACH;FMTTYPE=image/jpeg:https://taarup.dk/wp-content/uploads/2024/01/onsdagsgaature.jpg
END:VEVENT
BEGIN:VEVENT
DTSTART;TZID=Europe/Copenhagen:20260207T090000
DTEND;TZID=Europe/Copenhagen:20260207T100000
DTSTAMP:20260420T093453
CREATED:20260103T165918Z
LAST-MODIFIED:20260103T171111Z
UID:10001255-1770454800-1770458400@taarup.dk
SUMMARY:Kongshøj Vinterbadelaug
DESCRIPTION:Kongshøj Vinterbadelaug bader sammen fra badebroen ved Kongshøj Strand. Vi er ikke en forening\, hvor man skal være medlem. Navnet opstod på det tidspunkt\, hvor vi søgte Kystdirektoratet om at få lov til at sætte en saunatønde på hjul op i vinterhalvåret. Desværre fik vi afslag i første omgang\, men der er gang i en ny proces\, og vi håber\, at det snart lader sig gøre. \nVi mødes kl. 9 om lørdagen fra oktober og til og med april.
URL:https://taarup.dk/begivenhed/kongshoej-vinterbadelaug-2/2026-02-07/
LOCATION:Kongshøj Strand\, Kongshøj Strand\, Frørup\, 5871\, Danmark
CATEGORIES:Vinterbadning ved Kongshøj Strand
ATTACH;FMTTYPE=image/jpeg:https://taarup.dk/wp-content/uploads/2026/01/20251231_101426.jpg
GEO:55°13'13.6"N;10°48'34.5"E
X-APPLE-STRUCTURED-LOCATION;VALUE=URI;X-ADDRESS=Kongshøj Strand Kongshøj Strand Frørup 5871 Danmark;X-APPLE-RADIUS=500;X-TITLE=Kongshøj Strand:geo:10°48'34.5"E,55°13'13.6"N
END:VEVENT
BEGIN:VEVENT
DTSTART;TZID=Europe/Copenhagen:20260208T100000
DTEND;TZID=Europe/Copenhagen:20260208T100000
DTSTAMP:20260420T093453
CREATED:20260125T164128Z
LAST-MODIFIED:20260125T164128Z
UID:10001284-1770544800-1770544800@taarup.dk
SUMMARY:Gudstjeneste i Tårup Kirke
DESCRIPTION:Gudstjeneste i Tårup Kirke
URL:https://taarup.dk/begivenhed/gudstjeneste-i-taarup-kirke-35/
LOCATION:Tårup Kirke\, Tårup Byvej 9\, Tårup\, 5871\, Danmark
CATEGORIES:Gudstjeneste i Tårup Kirke,Kirkerne i Frørup og Tårup
ATTACH;FMTTYPE=image/jpeg:https://taarup.dk/wp-content/uploads/2024/03/DSC_7309.jpg
END:VEVENT
BEGIN:VEVENT
DTSTART;TZID=Europe/Copenhagen:20260208T111500
DTEND;TZID=Europe/Copenhagen:20260208T111500
DTSTAMP:20260420T093453
CREATED:20260125T164352Z
LAST-MODIFIED:20260125T164352Z
UID:10001285-1770549300-1770549300@taarup.dk
SUMMARY:Gudstjeneste i Frørup Kirke
DESCRIPTION:Gudstjeneste i Frørup kirke
URL:https://taarup.dk/begivenhed/gudstjeneste-i-froerup-kirke-37/
LOCATION:Frørup Kirke\, Præstevænget 5A\, 5871 Frørup
CATEGORIES:Gudstjeneste i Frørup Kirke,Kirkerne i Frørup og Tårup
ATTACH;FMTTYPE=image/jpeg:https://taarup.dk/wp-content/uploads/2025/11/Froerup-kirke.jpg
END:VEVENT
BEGIN:VEVENT
DTSTART;TZID=Europe/Copenhagen:20260211T090000
DTEND;TZID=Europe/Copenhagen:20260211T090000
DTSTAMP:20260420T093453
CREATED:20260206T083445Z
LAST-MODIFIED:20260206T083445Z
UID:10001325-1770800400-1770800400@taarup.dk
SUMMARY:Onsdagsgåtur
DESCRIPTION:Gåture fra Tårup forsamlingshus onsdage kl. 9. \nVi går mellem 5 og 10 km. \nNår vi går omkring Tårup\, er der altid mulighed for at gå en kortere tur for dem der vil det.\nVi tager kaffe/the med til den pause vi holder på turen. \nSidste onsdag i måneden\, spiser vi sammen i Kirkens hus. \nHilsen Lotte kontaktperson
URL:https://taarup.dk/begivenhed/onsdagsgaatur-5/2026-02-11/
LOCATION:Tårup Forsamlingshus\, Tårup Byvej 26\, Tårup\, Danmark
CATEGORIES:Onsdagsgåturene
ATTACH;FMTTYPE=image/jpeg:https://taarup.dk/wp-content/uploads/2024/01/onsdagsgaature.jpg
END:VEVENT
BEGIN:VEVENT
DTSTART;TZID=Europe/Copenhagen:20260212T190000
DTEND;TZID=Europe/Copenhagen:20260212T190000
DTSTAMP:20260420T093453
CREATED:20260205T155727Z
LAST-MODIFIED:20260205T155727Z
UID:10001294-1770922800-1770922800@taarup.dk
SUMMARY:Koncert med Marc Facchini
DESCRIPTION:Presse:\n\n“Hypnotisk uskyldsrent. Fremragende kompositorisk udført. Vidunderligt drømmende og Kodak-momentarisk. […] Uden Titel er et fremragende 90’er-uskyldsværk til vores psykopat-aktive nutid.” \nSådan skriver GAFFA’s anmelder Adam Bouttai om Marc Facchini’s seneste soloalbum. Den dansk/italienske sangskriver\, bosat i København\, opvokset på en teaterskole i Bakkebølle\, og med en slægt bestående af alt fra håndværkere og læger til skuespillere og svindlere\, bruger sin baggrund og sine omgivelser\, til at skrive sange der kræver fordybelse. Sange om krop\, finanser\, forvandling\, filosofi\, religion\, seksualtiet\, spiritualitet og død. \n\n\nI starten af 2010’erne var Marc Facchini frontmand i det KarriereKanon-vindende rockband Mescalin Baby\, og senere i det genrebrydende artpop-projekt Mother Lewinsky. Siden 2015 har han med sine dansksprogede neo-folk-sange fortryllet publikum på alt fra store festivalscener til tætpakkede dagligstuer. Nu er Marc Facchini aktuel med sit sjette soloalbum\, Uden Titel\, der igen bringer den anmelderroste sangskriver rundt i hele landet. Det er en særligt intim og gribende liveoplevelse\, du ikke vil gå glip af.
URL:https://taarup.dk/begivenhed/koncert-med-marc-facchini/
LOCATION:Åvej 7\, 5871 Frørup\, Åvej 7\, Frørup\, 5871\, Denmark
CATEGORIES:Bækvej 9's Stuekoncerter
ATTACH;FMTTYPE=image/jpeg:https://taarup.dk/wp-content/uploads/2026/02/Marc-Facchini-.jpg
END:VEVENT
BEGIN:VEVENT
DTSTART;TZID=Europe/Copenhagen:20260214T090000
DTEND;TZID=Europe/Copenhagen:20260214T100000
DTSTAMP:20260420T093453
CREATED:20260103T165918Z
LAST-MODIFIED:20260103T171111Z
UID:10001256-1771059600-1771063200@taarup.dk
SUMMARY:Kongshøj Vinterbadelaug
DESCRIPTION:Kongshøj Vinterbadelaug bader sammen fra badebroen ved Kongshøj Strand. Vi er ikke en forening\, hvor man skal være medlem. Navnet opstod på det tidspunkt\, hvor vi søgte Kystdirektoratet om at få lov til at sætte en saunatønde på hjul op i vinterhalvåret. Desværre fik vi afslag i første omgang\, men der er gang i en ny proces\, og vi håber\, at det snart lader sig gøre. \nVi mødes kl. 9 om lørdagen fra oktober og til og med april.
URL:https://taarup.dk/begivenhed/kongshoej-vinterbadelaug-2/2026-02-14/
LOCATION:Kongshøj Strand\, Kongshøj Strand\, Frørup\, 5871\, Danmark
CATEGORIES:Vinterbadning ved Kongshøj Strand
ATTACH;FMTTYPE=image/jpeg:https://taarup.dk/wp-content/uploads/2026/01/20251231_101426.jpg
GEO:55°13'13.6"N;10°48'34.5"E
X-APPLE-STRUCTURED-LOCATION;VALUE=URI;X-ADDRESS=Kongshøj Strand Kongshøj Strand Frørup 5871 Danmark;X-APPLE-RADIUS=500;X-TITLE=Kongshøj Strand:geo:10°48'34.5"E,55°13'13.6"N
END:VEVENT
BEGIN:VEVENT
DTSTART;TZID=Europe/Copenhagen:20260215T111500
DTEND;TZID=Europe/Copenhagen:20260215T111500
DTSTAMP:20260420T093453
CREATED:20260125T170405Z
LAST-MODIFIED:20260125T170405Z
UID:10001288-1771154100-1771154100@taarup.dk
SUMMARY:Gudstjeneste i Tårup Kirke - Fastelavn
DESCRIPTION:Gudstjeneste i Tårup Kirke ved Peter Grønlykke
URL:https://taarup.dk/begivenhed/gudstjeneste-i-taarup-kirke-fastelavn/
LOCATION:Tårup Kirke\, Tårup Byvej 9\, Tårup\, 5871\, Danmark
CATEGORIES:Gudstjeneste i Tårup Kirke,Kirkerne i Frørup og Tårup
ATTACH;FMTTYPE=image/jpeg:https://taarup.dk/wp-content/uploads/2026/01/fastelavn.jpg
END:VEVENT
BEGIN:VEVENT
DTSTART;TZID=Europe/Copenhagen:20260217T203000
DTEND;TZID=Europe/Copenhagen:20260217T213000
DTSTAMP:20260420T093453
CREATED:20260205T144841Z
LAST-MODIFIED:20260205T144841Z
UID:10001292-1771360200-1771363800@taarup.dk
SUMMARY:Vinterliv i Tårup
DESCRIPTION:Kom til en uformel aften i Tårups gamle frysehus\, nu Huset Under Egen: \nTirsdag d. 17. februar KL 20.30-21.30\, dagen hvor det er nymåne-. \nVi håber på klart vejr. \nHer vil vi efter en kort introduktion se på stjernehimmelen mod syd\, – se på interessante objekter og hvordan\, man kan afgøre\, hvad der er interessant at kigge på med det blotte øje. Planeter – Stjerner- Galaxer- Rumskib. \nEr vejret overskyet\, trækker vi ind I huset og ser på stjerne kort mm. \nIngen tilmelding\, Mød op og få en oplevelse – Husk Varmt tøj – Ses
URL:https://taarup.dk/begivenhed/vinterliv-i-taarup/
LOCATION:Huset under Egen\, Brydevej 1A\, Frørup\, 5871\, Denmark
CATEGORIES:Under Egen
ATTACH;FMTTYPE=image/jpeg:https://taarup.dk/wp-content/uploads/2026/02/Billedeaf-Orion.jpg
END:VEVENT
BEGIN:VEVENT
DTSTART;TZID=Europe/Copenhagen:20260218T080000
DTEND;TZID=Europe/Copenhagen:20260218T170000
DTSTAMP:20260420T093453
CREATED:20260120T120538Z
LAST-MODIFIED:20260120T120538Z
UID:10001273-1771401600-1771434000@taarup.dk
SUMMARY:Gåholdet tager til Odense
DESCRIPTION:Onsdag den 18. februar tager gåholdet på en spændende tur til Odense. \nVi starter ved forsamlingshuset kl. 8\, hvor vi fylder vores egne biler og kører mod Odense. \nFørste stop\, er Parkeringspladsen ved Ansgar kirke på Sønderboulevard. Derefter går vi en kort tur gennem Gerthasminde som er et gammelt\, fint og spændende boligkvarter. \nKl 9.30 har vi en aftale med Odense vandforsyning. Rundviser Lars Nielsen der vil fortælle om anlægget og hvordan de behandler drikkevand. Vi skal bla. se store brønd. Store brønd  som man påbegyndte udførelsen  af i år 1897. Rundvisningen tager 1 ½ til 2 timer. \nDerefter går vi tilbage gennem Gerthasminde til Ansgar kirke hvor vi har en aftale kl. 12. \nKl 13 har vi bestilt bord i kunstbygningen Filosoffen\, som ligger kort gåafstand til Ansgar kirke. \nKl. 14.30 kører vi til Hjallese kirke hvor vi har en aftale kl 14.45. \nEfter besøget i kirken vender vi næsen hjemad mod Tårup. \nFolk i tilknytning til gågruppen har på forskellig vis været tilknyttet byggeri af Store brønd og af Hjallese kirke. Ansgar kirke får vi sikkert også interessante ting at vide om. \nTilmelding til 22304636 på sms. Dette af hensyn til bordbestilling på Filosoffen. \nVandforsyningen skriver at rundvisningen desværre ikke er for gangbesværede eller kørestolsbrugere. \nTag gerne noget at drikke eller lidt spiseligt med til en lille pause undervejs. \nSåfremt nogen ønsker yderligere information om turen til Odense skal de henvende sig på mail til Lotte på mail <lotkarn1@gmail.com> \nP.S. Vi går stadigvæk om onsdagen fra forsamlingshuset kl. 9. Vi planlægger en kort eller en længere tur efter de ønsker der måtte være hos dem der møder op. \nHilsen Lotte på vegne af gågruppen.
URL:https://taarup.dk/begivenhed/gaaholdet-tager-til-odense/
END:VEVENT
BEGIN:VEVENT
DTSTART;TZID=Europe/Copenhagen:20260218T090000
DTEND;TZID=Europe/Copenhagen:20260218T090000
DTSTAMP:20260420T093453
CREATED:20260206T083445Z
LAST-MODIFIED:20260206T083445Z
UID:10001326-1771405200-1771405200@taarup.dk
SUMMARY:Onsdagsgåtur
DESCRIPTION:Gåture fra Tårup forsamlingshus onsdage kl. 9. \nVi går mellem 5 og 10 km. \nNår vi går omkring Tårup\, er der altid mulighed for at gå en kortere tur for dem der vil det.\nVi tager kaffe/the med til den pause vi holder på turen. \nSidste onsdag i måneden\, spiser vi sammen i Kirkens hus. \nHilsen Lotte kontaktperson
URL:https://taarup.dk/begivenhed/onsdagsgaatur-5/2026-02-18/
LOCATION:Tårup Forsamlingshus\, Tårup Byvej 26\, Tårup\, Danmark
CATEGORIES:Onsdagsgåturene
ATTACH;FMTTYPE=image/jpeg:https://taarup.dk/wp-content/uploads/2024/01/onsdagsgaature.jpg
END:VEVENT
BEGIN:VEVENT
DTSTART;TZID=Europe/Copenhagen:20260219T190000
DTEND;TZID=Europe/Copenhagen:20260219T213000
DTSTAMP:20260420T093453
CREATED:20250820T074542Z
LAST-MODIFIED:20260206T130631Z
UID:10001176-1771527600-1771536600@taarup.dk
SUMMARY:Tårup Frørup Seniorklub - foredrag "Arven fra ØK...."
DESCRIPTION:Tidligere Museumschef Espen Hedegaard holder foredrag: “Arven fra ØK – Når slægtsforskningen bliver siamesisk”
URL:https://taarup.dk/begivenhed/taarup-froerup-seniorklub-foredrag-arven-fra-oek/
LOCATION:Frørup Forsamlingshus\, Kogsbøllevej 83\, Frørup\, 5871\, Danmark
CATEGORIES:Tårup-Frørup Seniorklub
END:VEVENT
BEGIN:VEVENT
DTSTART;TZID=Europe/Copenhagen:20260221T090000
DTEND;TZID=Europe/Copenhagen:20260221T100000
DTSTAMP:20260420T093453
CREATED:20260103T165918Z
LAST-MODIFIED:20260103T171111Z
UID:10001257-1771664400-1771668000@taarup.dk
SUMMARY:Kongshøj Vinterbadelaug
DESCRIPTION:Kongshøj Vinterbadelaug bader sammen fra badebroen ved Kongshøj Strand. Vi er ikke en forening\, hvor man skal være medlem. Navnet opstod på det tidspunkt\, hvor vi søgte Kystdirektoratet om at få lov til at sætte en saunatønde på hjul op i vinterhalvåret. Desværre fik vi afslag i første omgang\, men der er gang i en ny proces\, og vi håber\, at det snart lader sig gøre. \nVi mødes kl. 9 om lørdagen fra oktober og til og med april.
URL:https://taarup.dk/begivenhed/kongshoej-vinterbadelaug-2/2026-02-21/
LOCATION:Kongshøj Strand\, Kongshøj Strand\, Frørup\, 5871\, Danmark
CATEGORIES:Vinterbadning ved Kongshøj Strand
ATTACH;FMTTYPE=image/jpeg:https://taarup.dk/wp-content/uploads/2026/01/20251231_101426.jpg
GEO:55°13'13.6"N;10°48'34.5"E
X-APPLE-STRUCTURED-LOCATION;VALUE=URI;X-ADDRESS=Kongshøj Strand Kongshøj Strand Frørup 5871 Danmark;X-APPLE-RADIUS=500;X-TITLE=Kongshøj Strand:geo:10°48'34.5"E,55°13'13.6"N
END:VEVENT
BEGIN:VEVENT
DTSTART;TZID=Europe/Copenhagen:20260222T100000
DTEND;TZID=Europe/Copenhagen:20260222T100000
DTSTAMP:20260420T093453
CREATED:20260125T165143Z
LAST-MODIFIED:20260125T165143Z
UID:10001287-1771754400-1771754400@taarup.dk
SUMMARY:Gudstjeneste i Frørup Kirke
DESCRIPTION:Gudstjeneste i Frørup kirke
URL:https://taarup.dk/begivenhed/gudstjeneste-i-froerup-kirke-39/
LOCATION:Frørup Kirke\, Præstevænget 5A\, 5871 Frørup
CATEGORIES:Gudstjeneste i Frørup Kirke,Kirkerne i Frørup og Tårup
ATTACH;FMTTYPE=image/jpeg:https://taarup.dk/wp-content/uploads/2025/11/Froerup-kirke.jpg
END:VEVENT
BEGIN:VEVENT
DTSTART;TZID=Europe/Copenhagen:20260225T090000
DTEND;TZID=Europe/Copenhagen:20260225T090000
DTSTAMP:20260420T093453
CREATED:20260206T083445Z
LAST-MODIFIED:20260206T083445Z
UID:10001327-1772010000-1772010000@taarup.dk
SUMMARY:Onsdagsgåtur
DESCRIPTION:Gåture fra Tårup forsamlingshus onsdage kl. 9. \nVi går mellem 5 og 10 km. \nNår vi går omkring Tårup\, er der altid mulighed for at gå en kortere tur for dem der vil det.\nVi tager kaffe/the med til den pause vi holder på turen. \nSidste onsdag i måneden\, spiser vi sammen i Kirkens hus. \nHilsen Lotte kontaktperson
URL:https://taarup.dk/begivenhed/onsdagsgaatur-5/2026-02-25/
LOCATION:Tårup Forsamlingshus\, Tårup Byvej 26\, Tårup\, Danmark
CATEGORIES:Onsdagsgåturene
ATTACH;FMTTYPE=image/jpeg:https://taarup.dk/wp-content/uploads/2024/01/onsdagsgaature.jpg
END:VEVENT
BEGIN:VEVENT
DTSTART;TZID=Europe/Copenhagen:20260226T193000
DTEND;TZID=Europe/Copenhagen:20260226T193000
DTSTAMP:20260420T093453
CREATED:20260205T153707Z
LAST-MODIFIED:20260205T153707Z
UID:10001293-1772134200-1772134200@taarup.dk
SUMMARY:Foredrag og generalforsamling i Tårup foredragsforening.
DESCRIPTION:Generalforsamling ifølge vedtægterne. \nKom og hør om Slædepatruljen SIRIUS!  Af Johannes Mengel.
URL:https://taarup.dk/begivenhed/foredrag-og-generalforsamling-i-taarup-foredragsforening/
LOCATION:Tårup Forsamlingshus\, Tårup Byvej 26\, Tårup\, Danmark
CATEGORIES:Tårup foredragsforening,Tårup Forsamlingshus
ATTACH;FMTTYPE=image/jpeg:https://taarup.dk/wp-content/uploads/2026/02/Sirius-1.jpg
END:VEVENT
BEGIN:VEVENT
DTSTART;TZID=Europe/Copenhagen:20260228T090000
DTEND;TZID=Europe/Copenhagen:20260228T100000
DTSTAMP:20260420T093453
CREATED:20260103T165918Z
LAST-MODIFIED:20260103T171111Z
UID:10001258-1772269200-1772272800@taarup.dk
SUMMARY:Kongshøj Vinterbadelaug
DESCRIPTION:Kongshøj Vinterbadelaug bader sammen fra badebroen ved Kongshøj Strand. Vi er ikke en forening\, hvor man skal være medlem. Navnet opstod på det tidspunkt\, hvor vi søgte Kystdirektoratet om at få lov til at sætte en saunatønde på hjul op i vinterhalvåret. Desværre fik vi afslag i første omgang\, men der er gang i en ny proces\, og vi håber\, at det snart lader sig gøre. \nVi mødes kl. 9 om lørdagen fra oktober og til og med april.
URL:https://taarup.dk/begivenhed/kongshoej-vinterbadelaug-2/2026-02-28/
LOCATION:Kongshøj Strand\, Kongshøj Strand\, Frørup\, 5871\, Danmark
CATEGORIES:Vinterbadning ved Kongshøj Strand
ATTACH;FMTTYPE=image/jpeg:https://taarup.dk/wp-content/uploads/2026/01/20251231_101426.jpg
GEO:55°13'13.6"N;10°48'34.5"E
X-APPLE-STRUCTURED-LOCATION;VALUE=URI;X-ADDRESS=Kongshøj Strand Kongshøj Strand Frørup 5871 Danmark;X-APPLE-RADIUS=500;X-TITLE=Kongshøj Strand:geo:10°48'34.5"E,55°13'13.6"N
END:VEVENT
END:VCALENDAR