BEGIN:VCALENDAR
VERSION:2.0
PRODID:-//Tårup - ECPv6.15.20//NONSGML v1.0//EN
CALSCALE:GREGORIAN
METHOD:PUBLISH
X-WR-CALNAME:Tårup
X-ORIGINAL-URL:https://taarup.dk
X-WR-CALDESC:Begivenheder for Tårup
REFRESH-INTERVAL;VALUE=DURATION:PT1H
X-Robots-Tag:noindex
X-PUBLISHED-TTL:PT1H
BEGIN:VTIMEZONE
TZID:Europe/Copenhagen
BEGIN:DAYLIGHT
TZOFFSETFROM:+0100
TZOFFSETTO:+0200
TZNAME:CEST
DTSTART:20250330T010000
END:DAYLIGHT
BEGIN:STANDARD
TZOFFSETFROM:+0200
TZOFFSETTO:+0100
TZNAME:CET
DTSTART:20251026T010000
END:STANDARD
BEGIN:DAYLIGHT
TZOFFSETFROM:+0100
TZOFFSETTO:+0200
TZNAME:CEST
DTSTART:20260329T010000
END:DAYLIGHT
BEGIN:STANDARD
TZOFFSETFROM:+0200
TZOFFSETTO:+0100
TZNAME:CET
DTSTART:20261025T010000
END:STANDARD
BEGIN:DAYLIGHT
TZOFFSETFROM:+0100
TZOFFSETTO:+0200
TZNAME:CEST
DTSTART:20270328T010000
END:DAYLIGHT
BEGIN:STANDARD
TZOFFSETFROM:+0200
TZOFFSETTO:+0100
TZNAME:CET
DTSTART:20271031T010000
END:STANDARD
END:VTIMEZONE
BEGIN:VEVENT
DTSTART;TZID=Europe/Copenhagen:20260129T140000
DTEND;TZID=Europe/Copenhagen:20260129T170000
DTSTAMP:20260420T152342
CREATED:20250820T074031Z
LAST-MODIFIED:20250820T074031Z
UID:10001175-1769695200-1769706000@taarup.dk
SUMMARY:Tårup Frørup Seniorklub - Foredrag ved Ann-Lise Aasesdatter Hansen
DESCRIPTION:“Livstræets rødder kaldte mig hjem til Fyns land” – Ann-Lise\, som er flyttet til Tårup fortæller. \nEfter foredraget er der banko.
URL:https://taarup.dk/begivenhed/taarup-froerup-seniorklub-foredrag-ved-ann-lise-aasesdatter-hansen/
LOCATION:Tårup Forsamlingshus\, Tårup Byvej 26\, Tårup\, Danmark
CATEGORIES:Tårup-Frørup Seniorklub
END:VEVENT
END:VCALENDAR