BEGIN:VCALENDAR
VERSION:2.0
PRODID:-//Tårup - ECPv6.15.20//NONSGML v1.0//EN
CALSCALE:GREGORIAN
METHOD:PUBLISH
X-ORIGINAL-URL:https://taarup.dk
X-WR-CALDESC:Begivenheder for Tårup
REFRESH-INTERVAL;VALUE=DURATION:PT1H
X-Robots-Tag:noindex
X-PUBLISHED-TTL:PT1H
BEGIN:VTIMEZONE
TZID:Europe/Copenhagen
BEGIN:DAYLIGHT
TZOFFSETFROM:+0100
TZOFFSETTO:+0200
TZNAME:CEST
DTSTART:20230326T010000
END:DAYLIGHT
BEGIN:STANDARD
TZOFFSETFROM:+0200
TZOFFSETTO:+0100
TZNAME:CET
DTSTART:20231029T010000
END:STANDARD
BEGIN:DAYLIGHT
TZOFFSETFROM:+0100
TZOFFSETTO:+0200
TZNAME:CEST
DTSTART:20240331T010000
END:DAYLIGHT
BEGIN:STANDARD
TZOFFSETFROM:+0200
TZOFFSETTO:+0100
TZNAME:CET
DTSTART:20241027T010000
END:STANDARD
BEGIN:DAYLIGHT
TZOFFSETFROM:+0100
TZOFFSETTO:+0200
TZNAME:CEST
DTSTART:20250330T010000
END:DAYLIGHT
BEGIN:STANDARD
TZOFFSETFROM:+0200
TZOFFSETTO:+0100
TZNAME:CET
DTSTART:20251026T010000
END:STANDARD
END:VTIMEZONE
BEGIN:VEVENT
DTSTART;TZID=Europe/Copenhagen:20241231T100000
DTEND;TZID=Europe/Copenhagen:20241231T110000
DTSTAMP:20260421T121209
CREATED:20241210T092903Z
LAST-MODIFIED:20241210T093046Z
UID:10000861-1735639200-1735642800@taarup.dk
SUMMARY:Nytårskur ved Kongshøj Vinterbadelaug
DESCRIPTION:
URL:https://taarup.dk/begivenhed/nytaarskur-ved-kongshoej-vinterbadelaug/
LOCATION:Kongshøj Strand\, Kongshøj Strand\, Frørup\, 5871\, Danmark
CATEGORIES:Vinterbadning ved Kongshøj Strand
GEO:55°13'13.6"N;10°48'34.5"E
X-APPLE-STRUCTURED-LOCATION;VALUE=URI;X-ADDRESS=Kongshøj Strand Kongshøj Strand Frørup 5871 Danmark;X-APPLE-RADIUS=500;X-TITLE=Kongshøj Strand:geo:10°48'34.5"E,55°13'13.6"N
END:VEVENT
BEGIN:VEVENT
DTSTART;TZID=Europe/Copenhagen:20241231T140000
DTEND;TZID=Europe/Copenhagen:20241231T140000
DTSTAMP:20260421T121209
CREATED:20241211T170050Z
LAST-MODIFIED:20241211T170310Z
UID:10000869-1735653600-1735653600@taarup.dk
SUMMARY:Nytårsgudstjeneste i Frørup Kirke
DESCRIPTION:Nytårsgudstjeneste i Frørup Kirke. Mads Lunde spiller trompet. Efter gudstjenesten ønsker vi hinanden godt nytår med kransekage og portvin/sodavand.
URL:https://taarup.dk/begivenhed/nytaarsgudstjeneste-i-froerup-kirke/
LOCATION:Frørup Kirke\, Præstevænget 5A\, 5871 Frørup
CATEGORIES:Gudstjeneste i Frørup Kirke,Kirkerne i Frørup og Tårup
ATTACH;FMTTYPE=image/jpeg:https://taarup.dk/wp-content/uploads/2024/12/Nytaar03-scaled.jpg
END:VEVENT
BEGIN:VEVENT
DTSTART;TZID=Europe/Copenhagen:20241231T153000
DTEND;TZID=Europe/Copenhagen:20241231T153000
DTSTAMP:20260421T121209
CREATED:20241211T170952Z
LAST-MODIFIED:20241211T170952Z
UID:10000870-1735659000-1735659000@taarup.dk
SUMMARY:Nytårsgudstjeneste i Tårup Kirke
DESCRIPTION:Nytårsgudstjeneste i Tårup Kirke. Mads Lunde spiller trompet. Efter gudstjenesten ønsker vi hinanden godt nytår med kransekage og portvin/sodavand.
URL:https://taarup.dk/begivenhed/nytaarsgudstjeneste-i-taarup-kirke/
LOCATION:Tårup Kirke\, Tårup Byvej 9\, Tårup\, 5871\, Danmark
CATEGORIES:Gudstjeneste i Frørup Kirke,Kirkerne i Frørup og Tårup
ATTACH;FMTTYPE=image/jpeg:https://taarup.dk/wp-content/uploads/2024/12/Nytaar03-scaled.jpg
END:VEVENT
END:VCALENDAR